BEGIN:VCALENDAR
VERSION:2.0
PRODID:-//Gambrell Street Baptist Church - ECPv6.15.18//NONSGML v1.0//EN
CALSCALE:GREGORIAN
METHOD:PUBLISH
X-ORIGINAL-URL:https://gambrellstreet.org
X-WR-CALDESC:Events for Gambrell Street Baptist Church
REFRESH-INTERVAL;VALUE=DURATION:PT1H
X-Robots-Tag:noindex
X-PUBLISHED-TTL:PT1H
BEGIN:VTIMEZONE
TZID:UTC
BEGIN:STANDARD
TZOFFSETFROM:+0000
TZOFFSETTO:+0000
TZNAME:UTC
DTSTART:20240101T000000
END:STANDARD
END:VTIMEZONE
BEGIN:VEVENT
DTSTART;TZID=UTC:20251029T180000
DTEND;TZID=UTC:20251029T190000
DTSTAMP:20260424T103156
CREATED:20251017T202940Z
LAST-MODIFIED:20251017T202952Z
UID:10000297-1761760800-1761764400@gambrellstreet.org
SUMMARY:Youth Lighthouse
DESCRIPTION:Join our Youth Group at the church on Wednesday nights at 6pm!
URL:https://gambrellstreet.org/event/youth-lighthouse/2025-10-29/
LOCATION:Gambrell Street Baptist Church\, 1616 W Gambrell St\,\, Fort Worth\, TX\, 76115\, United States
ATTACH;FMTTYPE=image/webp:https://gambrellstreet.org/wp-content/uploads/2025/10/large-wide-3374b992-9f00-4be0-8c38-b3be73af9bde-at-2x-68f2ed71cc364.webp
GEO:32.682126078279;-97.34485878974
X-APPLE-STRUCTURED-LOCATION;VALUE=URI;X-ADDRESS=Gambrell Street Baptist Church 1616 W Gambrell St Fort Worth TX 76115 United States;X-APPLE-RADIUS=500;X-TITLE=1616 W Gambrell St\,:geo:-97.34485878974,32.682126078279
END:VEVENT
BEGIN:VEVENT
DTSTART;TZID=UTC:20251027T190000
DTEND;TZID=UTC:20251027T210000
DTSTAMP:20260424T103156
CREATED:20251017T201200Z
LAST-MODIFIED:20251017T201256Z
UID:10000270-1761591600-1761598800@gambrellstreet.org
SUMMARY:Trellis - Young Adult
DESCRIPTION:Join our College & Young Adults Bible study and fellowship at 7pm on Monday nights! We are going through the life of Moses!
URL:https://gambrellstreet.org/event/trellis-young-adult/2025-10-27/
LOCATION:Gambrell Street Baptist Church\, 1616 W Gambrell St\,\, Fort Worth\, TX\, 76115\, United States
ATTACH;FMTTYPE=image/webp:https://gambrellstreet.org/wp-content/uploads/2025/10/dsc05746-300x200-68f2e8c2ce30c.webp
GEO:32.682126078279;-97.34485878974
X-APPLE-STRUCTURED-LOCATION;VALUE=URI;X-ADDRESS=Gambrell Street Baptist Church 1616 W Gambrell St Fort Worth TX 76115 United States;X-APPLE-RADIUS=500;X-TITLE=1616 W Gambrell St\,:geo:-97.34485878974,32.682126078279
END:VEVENT
BEGIN:VEVENT
DTSTART;TZID=UTC:20251026T091500
DTEND;TZID=UTC:20251026T101500
DTSTAMP:20260424T103156
CREATED:20251017T202623Z
LAST-MODIFIED:20251221T071330Z
UID:10000287-1761470100-1761473700@gambrellstreet.org
SUMMARY:Sunday School for All
DESCRIPTION:Gambrell Street Baptist Church 1616 W Gambrell St\,\, Fort Worth\, TX\, United States \nWe offer Bible Study for all ages and we have a variety of classes. When you get here ask about what class may be good for you! When you arrive we can direct you to a Sunday School class designed to fit your needs. \nFor those who are virtual we also offer a Sunday School class on Zoom!  For more information\, please contact: Gardner@gambrellstreet.org \nWe also offer a Sunday School class on you tube. Check with Elias on more details.
URL:https://gambrellstreet.org/event/sunday-school-for-all/2025-10-26/
LOCATION:Gambrell Street Baptist Church\, 1616 W Gambrell St\,\, Fort Worth\, TX\, 76115\, United States
GEO:32.682126078279;-97.34485878974
X-APPLE-STRUCTURED-LOCATION;VALUE=URI;X-ADDRESS=Gambrell Street Baptist Church 1616 W Gambrell St Fort Worth TX 76115 United States;X-APPLE-RADIUS=500;X-TITLE=1616 W Gambrell St\,:geo:-97.34485878974,32.682126078279
END:VEVENT
BEGIN:VEVENT
DTSTART;TZID=UTC:20251022T180000
DTEND;TZID=UTC:20251022T190000
DTSTAMP:20260424T103156
CREATED:20251017T202940Z
LAST-MODIFIED:20251017T202952Z
UID:10000296-1761156000-1761159600@gambrellstreet.org
SUMMARY:Youth Lighthouse
DESCRIPTION:Join our Youth Group at the church on Wednesday nights at 6pm!
URL:https://gambrellstreet.org/event/youth-lighthouse/2025-10-22/
LOCATION:Gambrell Street Baptist Church\, 1616 W Gambrell St\,\, Fort Worth\, TX\, 76115\, United States
ATTACH;FMTTYPE=image/webp:https://gambrellstreet.org/wp-content/uploads/2025/10/large-wide-3374b992-9f00-4be0-8c38-b3be73af9bde-at-2x-68f2ed71cc364.webp
GEO:32.682126078279;-97.34485878974
X-APPLE-STRUCTURED-LOCATION;VALUE=URI;X-ADDRESS=Gambrell Street Baptist Church 1616 W Gambrell St Fort Worth TX 76115 United States;X-APPLE-RADIUS=500;X-TITLE=1616 W Gambrell St\,:geo:-97.34485878974,32.682126078279
END:VEVENT
BEGIN:VEVENT
DTSTART;TZID=UTC:20251020T190000
DTEND;TZID=UTC:20251020T210000
DTSTAMP:20260424T103156
CREATED:20251017T201200Z
LAST-MODIFIED:20251017T201256Z
UID:10000269-1760986800-1760994000@gambrellstreet.org
SUMMARY:Trellis - Young Adult
DESCRIPTION:Join our College & Young Adults Bible study and fellowship at 7pm on Monday nights! We are going through the life of Moses!
URL:https://gambrellstreet.org/event/trellis-young-adult/2025-10-20/
LOCATION:Gambrell Street Baptist Church\, 1616 W Gambrell St\,\, Fort Worth\, TX\, 76115\, United States
ATTACH;FMTTYPE=image/webp:https://gambrellstreet.org/wp-content/uploads/2025/10/dsc05746-300x200-68f2e8c2ce30c.webp
GEO:32.682126078279;-97.34485878974
X-APPLE-STRUCTURED-LOCATION;VALUE=URI;X-ADDRESS=Gambrell Street Baptist Church 1616 W Gambrell St Fort Worth TX 76115 United States;X-APPLE-RADIUS=500;X-TITLE=1616 W Gambrell St\,:geo:-97.34485878974,32.682126078279
END:VEVENT
BEGIN:VEVENT
DTSTART;TZID=UTC:20251019T091500
DTEND;TZID=UTC:20251019T101500
DTSTAMP:20260424T103156
CREATED:20251017T202623Z
LAST-MODIFIED:20251221T071330Z
UID:10000286-1760865300-1760868900@gambrellstreet.org
SUMMARY:Sunday School for All
DESCRIPTION:Gambrell Street Baptist Church 1616 W Gambrell St\,\, Fort Worth\, TX\, United States \nWe offer Bible Study for all ages and we have a variety of classes. When you get here ask about what class may be good for you! When you arrive we can direct you to a Sunday School class designed to fit your needs. \nFor those who are virtual we also offer a Sunday School class on Zoom!  For more information\, please contact: Gardner@gambrellstreet.org \nWe also offer a Sunday School class on you tube. Check with Elias on more details.
URL:https://gambrellstreet.org/event/sunday-school-for-all/2025-10-19/
LOCATION:Gambrell Street Baptist Church\, 1616 W Gambrell St\,\, Fort Worth\, TX\, 76115\, United States
GEO:32.682126078279;-97.34485878974
X-APPLE-STRUCTURED-LOCATION;VALUE=URI;X-ADDRESS=Gambrell Street Baptist Church 1616 W Gambrell St Fort Worth TX 76115 United States;X-APPLE-RADIUS=500;X-TITLE=1616 W Gambrell St\,:geo:-97.34485878974,32.682126078279
END:VEVENT
END:VCALENDAR