BEGIN:VCALENDAR
VERSION:2.0
PRODID:-//Gambrell Street Baptist Church - ECPv6.15.18//NONSGML v1.0//EN
CALSCALE:GREGORIAN
METHOD:PUBLISH
X-WR-CALNAME:Gambrell Street Baptist Church
X-ORIGINAL-URL:https://gambrellstreet.org
X-WR-CALDESC:Events for Gambrell Street Baptist Church
REFRESH-INTERVAL;VALUE=DURATION:PT1H
X-Robots-Tag:noindex
X-PUBLISHED-TTL:PT1H
BEGIN:VTIMEZONE
TZID:Asia/Karachi
BEGIN:STANDARD
TZOFFSETFROM:+0500
TZOFFSETTO:+0500
TZNAME:PKT
DTSTART:20250101T000000
END:STANDARD
END:VTIMEZONE
BEGIN:VEVENT
DTSTART;VALUE=DATE:20260525
DTEND;VALUE=DATE:20260526
DTSTAMP:20260424T021420
CREATED:20260401T035213Z
LAST-MODIFIED:20260401T035213Z
UID:10000587-1779667200-1779753599@gambrellstreet.org
SUMMARY:Memorial Day
DESCRIPTION:
URL:https://gambrellstreet.org/event/memorial-day/
CATEGORIES:Campus 1
END:VEVENT
BEGIN:VEVENT
DTSTART;VALUE=DATE:20260525
DTEND;VALUE=DATE:20260526
DTSTAMP:20260424T021420
CREATED:20260401T035213Z
LAST-MODIFIED:20260401T035213Z
UID:10000588-1779667200-1779753599@gambrellstreet.org
SUMMARY:MESSENGER - Zechariah Olabisi
DESCRIPTION:
URL:https://gambrellstreet.org/event/messenger-zechariah-olabisi/
CATEGORIES:Campus 1
END:VEVENT
BEGIN:VEVENT
DTSTART;TZID=Asia/Karachi:20260525T083000
DTEND;TZID=Asia/Karachi:20260525T160000
DTSTAMP:20260424T021420
CREATED:20260401T035213Z
LAST-MODIFIED:20260401T035213Z
UID:10000589-1779697800-1779724800@gambrellstreet.org
SUMMARY:OFFICE CLOSED - HOLIDAY
DESCRIPTION:
URL:https://gambrellstreet.org/event/office-closed-holiday-2/
CATEGORIES:Campus 1
END:VEVENT
END:VCALENDAR