BEGIN:VCALENDAR
VERSION:2.0
PRODID:-//Gambrell Street Baptist Church - ECPv6.15.18//NONSGML v1.0//EN
CALSCALE:GREGORIAN
METHOD:PUBLISH
X-WR-CALNAME:Gambrell Street Baptist Church
X-ORIGINAL-URL:https://gambrellstreet.org
X-WR-CALDESC:Events for Gambrell Street Baptist Church
REFRESH-INTERVAL;VALUE=DURATION:PT1H
X-Robots-Tag:noindex
X-PUBLISHED-TTL:PT1H
BEGIN:VTIMEZONE
TZID:Asia/Karachi
BEGIN:STANDARD
TZOFFSETFROM:+0500
TZOFFSETTO:+0500
TZNAME:PKT
DTSTART:20250101T000000
END:STANDARD
END:VTIMEZONE
BEGIN:VEVENT
DTSTART;VALUE=DATE:20260520
DTEND;VALUE=DATE:20260521
DTSTAMP:20260424T021421
CREATED:20260401T035153Z
LAST-MODIFIED:20260401T035153Z
UID:10000571-1779235200-1779321599@gambrellstreet.org
SUMMARY:Prayer Team - Olabisi
DESCRIPTION:
URL:https://gambrellstreet.org/event/prayer-team-olabisi/
CATEGORIES:Campus 1
END:VEVENT
BEGIN:VEVENT
DTSTART;TZID=Asia/Karachi:20260520T083000
DTEND;TZID=Asia/Karachi:20260520T160000
DTSTAMP:20260424T021421
CREATED:20260401T035153Z
LAST-MODIFIED:20260401T035153Z
UID:10000572-1779265800-1779292800@gambrellstreet.org
SUMMARY:Office Open
DESCRIPTION:
URL:https://gambrellstreet.org/event/office-open-44/
CATEGORIES:Campus 1
END:VEVENT
BEGIN:VEVENT
DTSTART;TZID=Asia/Karachi:20260520T100000
DTEND;TZID=Asia/Karachi:20260520T113000
DTSTAMP:20260424T021421
CREATED:20260401T035153Z
LAST-MODIFIED:20260401T035153Z
UID:10000573-1779271200-1779276600@gambrellstreet.org
SUMMARY:GENESIS - Prayer Meeting - ZOOM
DESCRIPTION:
URL:https://gambrellstreet.org/event/genesis-prayer-meeting-zoom-12/
CATEGORIES:Campus 1
END:VEVENT
BEGIN:VEVENT
DTSTART;TZID=Asia/Karachi:20260520T100000
DTEND;TZID=Asia/Karachi:20260520T120000
DTSTAMP:20260424T021421
CREATED:20260401T035153Z
LAST-MODIFIED:20260401T035153Z
UID:10000574-1779271200-1779278400@gambrellstreet.org
SUMMARY:Ladies' Prayer Group - Prayer Room
DESCRIPTION:
URL:https://gambrellstreet.org/event/ladies-prayer-group-prayer-room-12/
CATEGORIES:Campus 1
END:VEVENT
BEGIN:VEVENT
DTSTART;TZID=Asia/Karachi:20260520T170000
DTEND;TZID=Asia/Karachi:20260520T180000
DTSTAMP:20260424T021421
CREATED:20260401T035156Z
LAST-MODIFIED:20260401T035156Z
UID:10000575-1779296400-1779300000@gambrellstreet.org
SUMMARY:Wednesday Night Dinner
DESCRIPTION:
URL:https://gambrellstreet.org/event/wednesday-night-dinner-13/
CATEGORIES:Campus 1
END:VEVENT
BEGIN:VEVENT
DTSTART;TZID=Asia/Karachi:20260520T180000
DTEND;TZID=Asia/Karachi:20260520T190000
DTSTAMP:20260424T021421
CREATED:20260401T035156Z
LAST-MODIFIED:20260401T035156Z
UID:10000576-1779300000-1779303600@gambrellstreet.org
SUMMARY:Bible Study / Children & Youth Activities
DESCRIPTION:Church Bible Study and Preschool/Children activities \n 
URL:https://gambrellstreet.org/event/bible-study-children-youth-activities-12/
CATEGORIES:Campus 1
END:VEVENT
BEGIN:VEVENT
DTSTART;TZID=Asia/Karachi:20260520T180000
DTEND;TZID=Asia/Karachi:20260520T203000
DTSTAMP:20260424T021421
CREATED:20260401T035156Z
LAST-MODIFIED:20260401T035156Z
UID:10000577-1779300000-1779309000@gambrellstreet.org
SUMMARY:GENESIS - Worship - In Person / Zoom - Room 100
DESCRIPTION:
URL:https://gambrellstreet.org/event/genesis-worship-in-person-zoom-room-100-13/
CATEGORIES:Campus 1
END:VEVENT
BEGIN:VEVENT
DTSTART;TZID=Asia/Karachi:20260520T183000
DTEND;TZID=Asia/Karachi:20260520T193000
DTSTAMP:20260424T021421
CREATED:20260401T035156Z
LAST-MODIFIED:20260401T035156Z
UID:10000578-1779301800-1779305400@gambrellstreet.org
SUMMARY:Handbell Practice - Room 202
DESCRIPTION:
URL:https://gambrellstreet.org/event/handbell-practice-room-202-12/
CATEGORIES:Campus 1
END:VEVENT
BEGIN:VEVENT
DTSTART;TZID=Asia/Karachi:20260520T193000
DTEND;TZID=Asia/Karachi:20260520T204500
DTSTAMP:20260424T021421
CREATED:20260401T035156Z
LAST-MODIFIED:20260401T035156Z
UID:10000579-1779305400-1779309900@gambrellstreet.org
SUMMARY:Choir Practice
DESCRIPTION:
URL:https://gambrellstreet.org/event/choir-practice-5/
CATEGORIES:Campus 1
END:VEVENT
BEGIN:VEVENT
DTSTART;TZID=Asia/Karachi:20260520T193000
DTEND;TZID=Asia/Karachi:20260520T204500
DTSTAMP:20260424T021421
CREATED:20260401T035209Z
LAST-MODIFIED:20260401T035209Z
UID:10000580-1779305400-1779309900@gambrellstreet.org
SUMMARY:Choir Rehearsal
DESCRIPTION:Contact – Mariano Gongora
URL:https://gambrellstreet.org/event/choir-rehearsal-12/
CATEGORIES:Campus 1
END:VEVENT
END:VCALENDAR