BEGIN:VCALENDAR
VERSION:2.0
PRODID:-//Gambrell Street Baptist Church - ECPv6.15.18//NONSGML v1.0//EN
CALSCALE:GREGORIAN
METHOD:PUBLISH
X-ORIGINAL-URL:https://gambrellstreet.org
X-WR-CALDESC:Events for Gambrell Street Baptist Church
REFRESH-INTERVAL;VALUE=DURATION:PT1H
X-Robots-Tag:noindex
X-PUBLISHED-TTL:PT1H
BEGIN:VTIMEZONE
TZID:Asia/Karachi
BEGIN:STANDARD
TZOFFSETFROM:+0500
TZOFFSETTO:+0500
TZNAME:PKT
DTSTART:20250101T000000
END:STANDARD
END:VTIMEZONE
BEGIN:VEVENT
DTSTART;TZID=Asia/Karachi:20260517T090000
DTEND;TZID=Asia/Karachi:20260517T130000
DTSTAMP:20260424T021539
CREATED:20260401T035151Z
LAST-MODIFIED:20260401T035151Z
UID:10000565-1779008400-1779022800@gambrellstreet.org
SUMMARY:GENESIS - Bible Study & Choir Practice / Worship Service
DESCRIPTION:
URL:https://gambrellstreet.org/event/genesis-bible-study-choir-practice-worship-service-10/
CATEGORIES:Campus 1
END:VEVENT
BEGIN:VEVENT
DTSTART;TZID=Asia/Karachi:20260517T090000
DTEND;TZID=Asia/Karachi:20260517T133000
DTSTAMP:20260424T021539
CREATED:20260401T035140Z
LAST-MODIFIED:20260401T035140Z
UID:10000564-1779008400-1779024600@gambrellstreet.org
SUMMARY:Bible Study / Worship Service & Extended Session
DESCRIPTION:
URL:https://gambrellstreet.org/event/bible-study-worship-service-extended-session-11/
CATEGORIES:Campus 1
END:VEVENT
BEGIN:VEVENT
DTSTART;TZID=Asia/Karachi:20260517T163000
DTEND;TZID=Asia/Karachi:20260517T170000
DTSTAMP:20260424T021539
CREATED:20260401T035151Z
LAST-MODIFIED:20260401T035151Z
UID:10000566-1779035400-1779037200@gambrellstreet.org
SUMMARY:Finance Committee - Conference Room
DESCRIPTION:
URL:https://gambrellstreet.org/event/finance-committee-conference-room-3/
CATEGORIES:Campus 1
END:VEVENT
BEGIN:VEVENT
DTSTART;TZID=Asia/Karachi:20260517T170000
DTEND;TZID=Asia/Karachi:20260517T180000
DTSTAMP:20260424T021539
CREATED:20260401T035152Z
LAST-MODIFIED:20260401T035152Z
UID:10000567-1779037200-1779040800@gambrellstreet.org
SUMMARY:Evening Service - Matos
DESCRIPTION:
URL:https://gambrellstreet.org/event/evening-service-matos/
CATEGORIES:Campus 1
END:VEVENT
BEGIN:VEVENT
DTSTART;TZID=Asia/Karachi:20260517T180000
DTEND;TZID=Asia/Karachi:20260517T190000
DTSTAMP:20260424T021539
CREATED:20260401T035152Z
LAST-MODIFIED:20260401T035152Z
UID:10000568-1779040800-1779044400@gambrellstreet.org
SUMMARY:Business Conference
DESCRIPTION:
URL:https://gambrellstreet.org/event/business-conference-3/
CATEGORIES:Campus 1
END:VEVENT
END:VCALENDAR