BEGIN:VCALENDAR
VERSION:2.0
PRODID:-//Gambrell Street Baptist Church - ECPv6.15.18//NONSGML v1.0//EN
CALSCALE:GREGORIAN
METHOD:PUBLISH
X-ORIGINAL-URL:https://gambrellstreet.org
X-WR-CALDESC:Events for Gambrell Street Baptist Church
REFRESH-INTERVAL;VALUE=DURATION:PT1H
X-Robots-Tag:noindex
X-PUBLISHED-TTL:PT1H
BEGIN:VTIMEZONE
TZID:Asia/Karachi
BEGIN:STANDARD
TZOFFSETFROM:+0500
TZOFFSETTO:+0500
TZNAME:PKT
DTSTART:20250101T000000
END:STANDARD
END:VTIMEZONE
BEGIN:VEVENT
DTSTART;TZID=Asia/Karachi:20260514T080000
DTEND;TZID=Asia/Karachi:20260514T100000
DTSTAMP:20260424T021621
CREATED:20260401T035140Z
LAST-MODIFIED:20260401T035140Z
UID:10000560-1778745600-1778752800@gambrellstreet.org
SUMMARY:Men's Breakfast - Dixie House
DESCRIPTION:
URL:https://gambrellstreet.org/event/mens-breakfast-dixie-house-6/
CATEGORIES:Campus 1
END:VEVENT
BEGIN:VEVENT
DTSTART;TZID=Asia/Karachi:20260514T083000
DTEND;TZID=Asia/Karachi:20260514T160000
DTSTAMP:20260424T021621
CREATED:20260401T035140Z
LAST-MODIFIED:20260401T035140Z
UID:10000561-1778747400-1778774400@gambrellstreet.org
SUMMARY:Office Open
DESCRIPTION:
URL:https://gambrellstreet.org/event/office-open-41/
CATEGORIES:Campus 1
END:VEVENT
BEGIN:VEVENT
DTSTART;TZID=Asia/Karachi:20260514T090000
DTEND;TZID=Asia/Karachi:20260514T103000
DTSTAMP:20260424T021621
CREATED:20260401T035140Z
LAST-MODIFIED:20260401T035140Z
UID:10000562-1778749200-1778754600@gambrellstreet.org
SUMMARY:Hubbard Heights ESL Classes
DESCRIPTION:Contact – Joanne Gabel – 817-996-5918
URL:https://gambrellstreet.org/event/hubbard-heights-esl-classes-12/
CATEGORIES:Campus 1
END:VEVENT
BEGIN:VEVENT
DTSTART;TZID=Asia/Karachi:20260514T183000
DTEND;TZID=Asia/Karachi:20260514T203000
DTSTAMP:20260424T021621
CREATED:20260401T035140Z
LAST-MODIFIED:20260401T035140Z
UID:10000563-1778783400-1778790600@gambrellstreet.org
SUMMARY:Genesis - ESL Banquet - TH
DESCRIPTION:Contact – George Swan  817-845-9027
URL:https://gambrellstreet.org/event/genesis-esl-banquet-th/
CATEGORIES:Campus 1
END:VEVENT
END:VCALENDAR