BEGIN:VCALENDAR
VERSION:2.0
PRODID:-//Gambrell Street Baptist Church - ECPv6.15.18//NONSGML v1.0//EN
CALSCALE:GREGORIAN
METHOD:PUBLISH
X-WR-CALNAME:Gambrell Street Baptist Church
X-ORIGINAL-URL:https://gambrellstreet.org
X-WR-CALDESC:Events for Gambrell Street Baptist Church
REFRESH-INTERVAL;VALUE=DURATION:PT1H
X-Robots-Tag:noindex
X-PUBLISHED-TTL:PT1H
BEGIN:VTIMEZONE
TZID:UTC
BEGIN:STANDARD
TZOFFSETFROM:+0000
TZOFFSETTO:+0000
TZNAME:UTC
DTSTART:20250101T000000
END:STANDARD
END:VTIMEZONE
BEGIN:VEVENT
DTSTART;VALUE=DATE:20260225
DTEND;VALUE=DATE:20260226
DTSTAMP:20260424T035612
CREATED:20260212T100057Z
LAST-MODIFIED:20260212T100057Z
UID:10000377-1771977600-1772063999@gambrellstreet.org
SUMMARY:Prayer Team - Trellis / Young Adult
DESCRIPTION:
URL:https://gambrellstreet.org/event/prayer-team-trellis-young-adult/
CATEGORIES:Campus 1
END:VEVENT
BEGIN:VEVENT
DTSTART;TZID=UTC:20260225T100000
DTEND;TZID=UTC:20260225T113000
DTSTAMP:20260424T035612
CREATED:20260212T100057Z
LAST-MODIFIED:20260212T100057Z
UID:10000379-1772013600-1772019000@gambrellstreet.org
SUMMARY:GENESIS - Prayer Meeting - ZOOM
DESCRIPTION:
URL:https://gambrellstreet.org/event/genesis-prayer-meeting-zoom-4/
CATEGORIES:Campus 1
END:VEVENT
BEGIN:VEVENT
DTSTART;TZID=UTC:20260225T100000
DTEND;TZID=UTC:20260225T120000
DTSTAMP:20260424T035612
CREATED:20260212T100057Z
LAST-MODIFIED:20260212T100057Z
UID:10000380-1772013600-1772020800@gambrellstreet.org
SUMMARY:Ladies' Prayer Group - Prayer Room
DESCRIPTION:
URL:https://gambrellstreet.org/event/ladies-prayer-group-prayer-room-4/
CATEGORIES:Campus 1
END:VEVENT
BEGIN:VEVENT
DTSTART;TZID=UTC:20260225T193000
DTEND;TZID=UTC:20260225T204500
DTSTAMP:20260424T035612
CREATED:20260212T100102Z
LAST-MODIFIED:20260212T100102Z
UID:10000386-1772047800-1772052300@gambrellstreet.org
SUMMARY:Choir Rehearsal
DESCRIPTION:Contact – Mariano Gongora
URL:https://gambrellstreet.org/event/choir-rehearsal-4/
CATEGORIES:Campus 1
END:VEVENT
END:VCALENDAR