BEGIN:VCALENDAR
VERSION:2.0
PRODID:-//Gambrell Street Baptist Church - ECPv6.15.18//NONSGML v1.0//EN
CALSCALE:GREGORIAN
METHOD:PUBLISH
X-ORIGINAL-URL:https://gambrellstreet.org
X-WR-CALDESC:Events for Gambrell Street Baptist Church
REFRESH-INTERVAL;VALUE=DURATION:PT1H
X-Robots-Tag:noindex
X-PUBLISHED-TTL:PT1H
BEGIN:VTIMEZONE
TZID:UTC
BEGIN:STANDARD
TZOFFSETFROM:+0000
TZOFFSETTO:+0000
TZNAME:UTC
DTSTART:20250101T000000
END:STANDARD
END:VTIMEZONE
BEGIN:VEVENT
DTSTART;TZID=UTC:20260415T090000
DTEND;TZID=UTC:20260415T150000
DTSTAMP:20260424T195711
CREATED:20260331T224535Z
LAST-MODIFIED:20260331T224535Z
UID:10000448-1776243600-1776265200@gambrellstreet.org
SUMMARY:Christian Women's Job Corp - Room 202
DESCRIPTION:
URL:https://gambrellstreet.org/event/christian-womens-job-corp-room-202-7/
CATEGORIES:Campus 1
END:VEVENT
BEGIN:VEVENT
DTSTART;TZID=UTC:20260415T100000
DTEND;TZID=UTC:20260415T113000
DTSTAMP:20260424T195711
CREATED:20260331T224535Z
LAST-MODIFIED:20260331T224535Z
UID:10000449-1776247200-1776252600@gambrellstreet.org
SUMMARY:GENESIS - Prayer Meeting - ZOOM
DESCRIPTION:
URL:https://gambrellstreet.org/event/genesis-prayer-meeting-zoom-7/
END:VEVENT
BEGIN:VEVENT
DTSTART;TZID=UTC:20260415T100000
DTEND;TZID=UTC:20260415T120000
DTSTAMP:20260424T195711
CREATED:20260331T224535Z
LAST-MODIFIED:20260331T224535Z
UID:10000450-1776247200-1776254400@gambrellstreet.org
SUMMARY:Ladies' Prayer Group - Prayer Room
DESCRIPTION:
URL:https://gambrellstreet.org/event/ladies-prayer-group-prayer-room-7/
END:VEVENT
BEGIN:VEVENT
DTSTART;TZID=UTC:20260415T170000
DTEND;TZID=UTC:20260415T180000
DTSTAMP:20260424T195711
CREATED:20260331T224535Z
LAST-MODIFIED:20260331T224535Z
UID:10000451-1776272400-1776276000@gambrellstreet.org
SUMMARY:Wednesday Night Dinner
DESCRIPTION:
URL:https://gambrellstreet.org/event/wednesday-night-dinner-8/
END:VEVENT
BEGIN:VEVENT
DTSTART;TZID=UTC:20260415T180000
DTEND;TZID=UTC:20260415T190000
DTSTAMP:20260424T195711
CREATED:20260331T224535Z
LAST-MODIFIED:20260331T224535Z
UID:10000452-1776276000-1776279600@gambrellstreet.org
SUMMARY:Bible Study / Children & Youth Activities
DESCRIPTION:Church Bible Study and Preschool/Children activities \n 
URL:https://gambrellstreet.org/event/bible-study-children-youth-activities-7/
END:VEVENT
BEGIN:VEVENT
DTSTART;TZID=UTC:20260415T180000
DTEND;TZID=UTC:20260415T200000
DTSTAMP:20260424T195711
CREATED:20260331T224535Z
LAST-MODIFIED:20260331T224535Z
UID:10000453-1776276000-1776283200@gambrellstreet.org
SUMMARY:GENESIS - ESL / Citizenship classes
DESCRIPTION:
URL:https://gambrellstreet.org/event/genesis-esl-citizenship-classes-7/
END:VEVENT
BEGIN:VEVENT
DTSTART;TZID=UTC:20260415T180000
DTEND;TZID=UTC:20260415T203000
DTSTAMP:20260424T195711
CREATED:20260331T224538Z
LAST-MODIFIED:20260331T224538Z
UID:10000454-1776276000-1776285000@gambrellstreet.org
SUMMARY:GENESIS - Worship - In Person / Zoom - Room 100
DESCRIPTION:
URL:https://gambrellstreet.org/event/genesis-worship-in-person-zoom-room-100-7/
CATEGORIES:Campus 1
END:VEVENT
BEGIN:VEVENT
DTSTART;TZID=UTC:20260415T183000
DTEND;TZID=UTC:20260415T193000
DTSTAMP:20260424T195711
CREATED:20260331T224538Z
LAST-MODIFIED:20260331T224538Z
UID:10000455-1776277800-1776281400@gambrellstreet.org
SUMMARY:Handbell Practice - Room 202
DESCRIPTION:
URL:https://gambrellstreet.org/event/handbell-practice-room-202-7/
CATEGORIES:Campus 1
END:VEVENT
BEGIN:VEVENT
DTSTART;TZID=UTC:20260415T193000
DTEND;TZID=UTC:20260415T204500
DTSTAMP:20260424T195711
CREATED:20260331T224538Z
LAST-MODIFIED:20260331T224538Z
UID:10000456-1776281400-1776285900@gambrellstreet.org
SUMMARY:Choir Rehearsal
DESCRIPTION:Contact – Mariano Gongora
URL:https://gambrellstreet.org/event/choir-rehearsal-7/
CATEGORIES:Campus 1
END:VEVENT
BEGIN:VEVENT
DTSTART;TZID=UTC:20260416T080000
DTEND;TZID=UTC:20260416T100000
DTSTAMP:20260424T195711
CREATED:20260331T224538Z
LAST-MODIFIED:20260331T224538Z
UID:10000457-1776326400-1776333600@gambrellstreet.org
SUMMARY:Men's Breakfast - Dixie House
DESCRIPTION:
URL:https://gambrellstreet.org/event/mens-breakfast-dixie-house-4/
CATEGORIES:Campus 1
END:VEVENT
BEGIN:VEVENT
DTSTART;TZID=UTC:20260416T083000
DTEND;TZID=UTC:20260416T160000
DTSTAMP:20260424T195711
CREATED:20260331T224538Z
LAST-MODIFIED:20260331T224538Z
UID:10000458-1776328200-1776355200@gambrellstreet.org
SUMMARY:Office Open
DESCRIPTION:
URL:https://gambrellstreet.org/event/office-open-25/
CATEGORIES:Campus 1
END:VEVENT
BEGIN:VEVENT
DTSTART;TZID=UTC:20260416T090000
DTEND;TZID=UTC:20260416T103000
DTSTAMP:20260424T195711
CREATED:20260331T224539Z
LAST-MODIFIED:20260331T224539Z
UID:10000459-1776330000-1776335400@gambrellstreet.org
SUMMARY:Hubbard Heights ESL Classes
DESCRIPTION:Contact – Joanne Gabel – 817-996-5918
URL:https://gambrellstreet.org/event/hubbard-heights-esl-classes-4/
END:VEVENT
BEGIN:VEVENT
DTSTART;TZID=UTC:20260418T120000
DTEND;TZID=UTC:20260418T150000
DTSTAMP:20260424T195711
CREATED:20260331T224539Z
LAST-MODIFIED:20260331T224539Z
UID:10000460-1776513600-1776524400@gambrellstreet.org
SUMMARY:Deacons & Spouses Banquet - MH
DESCRIPTION:Contact – Jackie Nichols – 8117-422-2832
URL:https://gambrellstreet.org/event/deacons-spouses-banquet-mh/
END:VEVENT
BEGIN:VEVENT
DTSTART;TZID=UTC:20260419T090000
DTEND;TZID=UTC:20260419T130000
DTSTAMP:20260424T195711
CREATED:20260331T224539Z
LAST-MODIFIED:20260331T224539Z
UID:10000462-1776589200-1776603600@gambrellstreet.org
SUMMARY:GENESIS - Bible Study & Choir Practice / Worship Service
DESCRIPTION:
URL:https://gambrellstreet.org/event/genesis-bible-study-choir-practice-worship-service-6/
END:VEVENT
BEGIN:VEVENT
DTSTART;TZID=UTC:20260419T090000
DTEND;TZID=UTC:20260419T133000
DTSTAMP:20260424T195711
CREATED:20260331T224539Z
LAST-MODIFIED:20260331T224539Z
UID:10000461-1776589200-1776605400@gambrellstreet.org
SUMMARY:Bible Study / Worship Service & Extended Session
DESCRIPTION:
URL:https://gambrellstreet.org/event/bible-study-worship-service-extended-session-7/
END:VEVENT
BEGIN:VEVENT
DTSTART;TZID=UTC:20260419T170000
DTEND;TZID=UTC:20260419T180000
DTSTAMP:20260424T195711
CREATED:20260331T224539Z
LAST-MODIFIED:20260331T224539Z
UID:10000463-1776618000-1776621600@gambrellstreet.org
SUMMARY:Singing Women of Texas Concert - Sanctuary\, Maston Hall
DESCRIPTION:Contact – Ben Caston 817-921-8674 \nBuilding open 3-7PM
URL:https://gambrellstreet.org/event/singing-women-of-texas-concert-sanctuary-maston-hall/
END:VEVENT
BEGIN:VEVENT
DTSTART;TZID=UTC:20260420T083000
DTEND;TZID=UTC:20260420T160000
DTSTAMP:20260424T195711
CREATED:20260331T224541Z
LAST-MODIFIED:20260331T224541Z
UID:10000464-1776673800-1776700800@gambrellstreet.org
SUMMARY:Office Open
DESCRIPTION:
URL:https://gambrellstreet.org/event/office-open-26/
END:VEVENT
BEGIN:VEVENT
DTSTART;TZID=UTC:20260420T090000
DTEND;TZID=UTC:20260420T150000
DTSTAMP:20260424T195711
CREATED:20260331T224541Z
LAST-MODIFIED:20260331T224541Z
UID:10000465-1776675600-1776697200@gambrellstreet.org
SUMMARY:Christian Women's Job Corp - Room 202
DESCRIPTION:
URL:https://gambrellstreet.org/event/christian-womens-job-corp-room-202-8/
END:VEVENT
BEGIN:VEVENT
DTSTART;TZID=UTC:20260420T153000
DTEND;TZID=UTC:20260420T170000
DTSTAMP:20260424T195711
CREATED:20260331T224542Z
LAST-MODIFIED:20260331T224542Z
UID:10000466-1776699000-1776704400@gambrellstreet.org
SUMMARY:Good News Club Meeting - Hubbard Heights
DESCRIPTION:Contact – Joanne Gabel – 817-996-5918
URL:https://gambrellstreet.org/event/good-news-club-meeting-hubbard-heights-3/
END:VEVENT
BEGIN:VEVENT
DTSTART;TZID=UTC:20260420T190000
DTEND;TZID=UTC:20260420T210000
DTSTAMP:20260424T195711
CREATED:20260331T224542Z
LAST-MODIFIED:20260331T224542Z
UID:10000467-1776711600-1776718800@gambrellstreet.org
SUMMARY:Trellis - Room 200 & 200A
DESCRIPTION:
URL:https://gambrellstreet.org/event/trellis-room-200-200a-6/
END:VEVENT
BEGIN:VEVENT
DTSTART;TZID=UTC:20260421T083000
DTEND;TZID=UTC:20260421T160000
DTSTAMP:20260424T195711
CREATED:20260331T224542Z
LAST-MODIFIED:20260331T224542Z
UID:10000468-1776760200-1776787200@gambrellstreet.org
SUMMARY:Office Open
DESCRIPTION:
URL:https://gambrellstreet.org/event/office-open-27/
END:VEVENT
BEGIN:VEVENT
DTSTART;TZID=UTC:20260421T090000
DTEND;TZID=UTC:20260421T103000
DTSTAMP:20260424T195711
CREATED:20260331T224543Z
LAST-MODIFIED:20260331T224543Z
UID:10000470-1776762000-1776767400@gambrellstreet.org
SUMMARY:Hubbard Heights ESL Classes
DESCRIPTION:Contact – Joanne Gabel – 817-996-5918
URL:https://gambrellstreet.org/event/hubbard-heights-esl-classes-5/
END:VEVENT
BEGIN:VEVENT
DTSTART;TZID=UTC:20260421T090000
DTEND;TZID=UTC:20260421T150000
DTSTAMP:20260424T195711
CREATED:20260331T224543Z
LAST-MODIFIED:20260331T224543Z
UID:10000469-1776762000-1776783600@gambrellstreet.org
SUMMARY:Christian Women's Job Corp - Room 202
DESCRIPTION:
URL:https://gambrellstreet.org/event/christian-womens-job-corp-room-202-9/
END:VEVENT
BEGIN:VEVENT
DTSTART;TZID=UTC:20260421T093000
DTEND;TZID=UTC:20260421T113000
DTSTAMP:20260424T195711
CREATED:20260331T224543Z
LAST-MODIFIED:20260331T224543Z
UID:10000471-1776763800-1776771000@gambrellstreet.org
SUMMARY:Adults on Mission - Room 100
DESCRIPTION:Contact – Beverly Spivey – 817-681-8642
URL:https://gambrellstreet.org/event/adults-on-mission-room-100-2/
END:VEVENT
BEGIN:VEVENT
DTSTART;VALUE=DATE:20260422
DTEND;VALUE=DATE:20260423
DTSTAMP:20260424T195711
CREATED:20260331T224544Z
LAST-MODIFIED:20260331T224544Z
UID:10000472-1776816000-1776902399@gambrellstreet.org
SUMMARY:Prayer Team - Trellis / Young Adult
DESCRIPTION:
URL:https://gambrellstreet.org/event/prayer-team-trellis-young-adult-2/
END:VEVENT
BEGIN:VEVENT
DTSTART;TZID=UTC:20260422T083000
DTEND;TZID=UTC:20260422T160000
DTSTAMP:20260424T195711
CREATED:20260331T224544Z
LAST-MODIFIED:20260331T224544Z
UID:10000473-1776846600-1776873600@gambrellstreet.org
SUMMARY:Office Open
DESCRIPTION:
URL:https://gambrellstreet.org/event/office-open-28/
END:VEVENT
BEGIN:VEVENT
DTSTART;TZID=UTC:20260422T090000
DTEND;TZID=UTC:20260422T150000
DTSTAMP:20260424T195711
CREATED:20260331T224545Z
LAST-MODIFIED:20260331T224545Z
UID:10000474-1776848400-1776870000@gambrellstreet.org
SUMMARY:Christian Women's Job Corp - Room 202
DESCRIPTION:
URL:https://gambrellstreet.org/event/christian-womens-job-corp-room-202-10/
CATEGORIES:Campus 1
END:VEVENT
BEGIN:VEVENT
DTSTART;TZID=UTC:20260422T100000
DTEND;TZID=UTC:20260422T113000
DTSTAMP:20260424T195711
CREATED:20260331T224545Z
LAST-MODIFIED:20260331T224545Z
UID:10000475-1776852000-1776857400@gambrellstreet.org
SUMMARY:GENESIS - Prayer Meeting - ZOOM
DESCRIPTION:
URL:https://gambrellstreet.org/event/genesis-prayer-meeting-zoom-8/
CATEGORIES:Campus 1
END:VEVENT
BEGIN:VEVENT
DTSTART;TZID=UTC:20260422T100000
DTEND;TZID=UTC:20260422T120000
DTSTAMP:20260424T195711
CREATED:20260331T224545Z
LAST-MODIFIED:20260331T224545Z
UID:10000476-1776852000-1776859200@gambrellstreet.org
SUMMARY:Ladies' Prayer Group - Prayer Room
DESCRIPTION:
URL:https://gambrellstreet.org/event/ladies-prayer-group-prayer-room-8/
CATEGORIES:Campus 1
END:VEVENT
BEGIN:VEVENT
DTSTART;TZID=UTC:20260422T170000
DTEND;TZID=UTC:20260422T180000
DTSTAMP:20260424T195711
CREATED:20260331T224545Z
LAST-MODIFIED:20260331T224545Z
UID:10000477-1776877200-1776880800@gambrellstreet.org
SUMMARY:Wednesday Night Dinner
DESCRIPTION:
URL:https://gambrellstreet.org/event/wednesday-night-dinner-9/
CATEGORIES:Campus 1
END:VEVENT
END:VCALENDAR