BEGIN:VCALENDAR
VERSION:2.0
PRODID:-//Gambrell Street Baptist Church - ECPv6.15.18//NONSGML v1.0//EN
CALSCALE:GREGORIAN
METHOD:PUBLISH
X-WR-CALNAME:Gambrell Street Baptist Church
X-ORIGINAL-URL:https://gambrellstreet.org
X-WR-CALDESC:Events for Gambrell Street Baptist Church
REFRESH-INTERVAL;VALUE=DURATION:PT1H
X-Robots-Tag:noindex
X-PUBLISHED-TTL:PT1H
BEGIN:VTIMEZONE
TZID:UTC
BEGIN:STANDARD
TZOFFSETFROM:+0000
TZOFFSETTO:+0000
TZNAME:UTC
DTSTART:20250101T000000
END:STANDARD
END:VTIMEZONE
BEGIN:VEVENT
DTSTART;TZID=UTC:20260406T153000
DTEND;TZID=UTC:20260406T170000
DTSTAMP:20260424T180912
CREATED:20260331T224512Z
LAST-MODIFIED:20260331T224512Z
UID:10000412-1775489400-1775494800@gambrellstreet.org
SUMMARY:Good News Club Meeting - Hubbard Heights
DESCRIPTION:Contact – Joanne Gabel – 817-996-5918
URL:https://gambrellstreet.org/event/good-news-club-meeting-hubbard-heights/
END:VEVENT
BEGIN:VEVENT
DTSTART;TZID=UTC:20260406T190000
DTEND;TZID=UTC:20260406T210000
DTSTAMP:20260424T180912
CREATED:20260331T224512Z
LAST-MODIFIED:20260331T224512Z
UID:10000413-1775502000-1775509200@gambrellstreet.org
SUMMARY:Trellis - Room 200 & 200A
DESCRIPTION:
URL:https://gambrellstreet.org/event/trellis-room-200-200a-4/
END:VEVENT
BEGIN:VEVENT
DTSTART;TZID=UTC:20260407T083000
DTEND;TZID=UTC:20260407T160000
DTSTAMP:20260424T180912
CREATED:20260331T224518Z
LAST-MODIFIED:20260331T224518Z
UID:10000414-1775550600-1775577600@gambrellstreet.org
SUMMARY:Office Open
DESCRIPTION:
URL:https://gambrellstreet.org/event/office-open-19/
CATEGORIES:Campus 1
END:VEVENT
BEGIN:VEVENT
DTSTART;TZID=UTC:20260407T090000
DTEND;TZID=UTC:20260407T103000
DTSTAMP:20260424T180912
CREATED:20260331T224518Z
LAST-MODIFIED:20260331T224518Z
UID:10000416-1775552400-1775557800@gambrellstreet.org
SUMMARY:Hubbard Heights ESL Classes
DESCRIPTION:Contact – Joanne Gabel – 817-996-5918
URL:https://gambrellstreet.org/event/hubbard-heights-esl-classes/
CATEGORIES:Campus 1
END:VEVENT
BEGIN:VEVENT
DTSTART;TZID=UTC:20260407T090000
DTEND;TZID=UTC:20260407T150000
DTSTAMP:20260424T180912
CREATED:20260331T224518Z
LAST-MODIFIED:20260331T224518Z
UID:10000415-1775552400-1775574000@gambrellstreet.org
SUMMARY:Christian Women's Job Corp - Room 202
DESCRIPTION:
URL:https://gambrellstreet.org/event/christian-womens-job-corp-room-202-3/
CATEGORIES:Campus 1
END:VEVENT
BEGIN:VEVENT
DTSTART;VALUE=DATE:20260408
DTEND;VALUE=DATE:20260409
DTSTAMP:20260424T180912
CREATED:20260331T224518Z
LAST-MODIFIED:20260331T224518Z
UID:10000417-1775606400-1775692799@gambrellstreet.org
SUMMARY:Prayer Team - Spivey
DESCRIPTION:
URL:https://gambrellstreet.org/event/prayer-team-spivey-2/
CATEGORIES:Campus 1
END:VEVENT
BEGIN:VEVENT
DTSTART;TZID=UTC:20260408T083000
DTEND;TZID=UTC:20260408T160000
DTSTAMP:20260424T180912
CREATED:20260331T224519Z
LAST-MODIFIED:20260331T224519Z
UID:10000418-1775637000-1775664000@gambrellstreet.org
SUMMARY:Office Open
DESCRIPTION:
URL:https://gambrellstreet.org/event/office-open-20/
CATEGORIES:Campus 1
END:VEVENT
BEGIN:VEVENT
DTSTART;TZID=UTC:20260408T090000
DTEND;TZID=UTC:20260408T150000
DTSTAMP:20260424T180912
CREATED:20260331T224519Z
LAST-MODIFIED:20260331T224519Z
UID:10000419-1775638800-1775660400@gambrellstreet.org
SUMMARY:Christian Women's Job Corp - Room 202
DESCRIPTION:
URL:https://gambrellstreet.org/event/christian-womens-job-corp-room-202-4/
END:VEVENT
BEGIN:VEVENT
DTSTART;TZID=UTC:20260408T100000
DTEND;TZID=UTC:20260408T113000
DTSTAMP:20260424T180912
CREATED:20260331T224519Z
LAST-MODIFIED:20260331T224519Z
UID:10000420-1775642400-1775647800@gambrellstreet.org
SUMMARY:GENESIS - Prayer Meeting - ZOOM
DESCRIPTION:
URL:https://gambrellstreet.org/event/genesis-prayer-meeting-zoom-6/
END:VEVENT
BEGIN:VEVENT
DTSTART;TZID=UTC:20260408T100000
DTEND;TZID=UTC:20260408T120000
DTSTAMP:20260424T180912
CREATED:20260331T224519Z
LAST-MODIFIED:20260331T224519Z
UID:10000421-1775642400-1775649600@gambrellstreet.org
SUMMARY:Ladies' Prayer Group - Prayer Room
DESCRIPTION:
URL:https://gambrellstreet.org/event/ladies-prayer-group-prayer-room-6/
END:VEVENT
BEGIN:VEVENT
DTSTART;TZID=UTC:20260408T170000
DTEND;TZID=UTC:20260408T180000
DTSTAMP:20260424T180912
CREATED:20260331T224519Z
LAST-MODIFIED:20260331T224519Z
UID:10000422-1775667600-1775671200@gambrellstreet.org
SUMMARY:Wednesday Night Dinner
DESCRIPTION:
URL:https://gambrellstreet.org/event/wednesday-night-dinner-7/
END:VEVENT
BEGIN:VEVENT
DTSTART;TZID=UTC:20260408T180000
DTEND;TZID=UTC:20260408T190000
DTSTAMP:20260424T180912
CREATED:20260331T224519Z
LAST-MODIFIED:20260331T224519Z
UID:10000423-1775671200-1775674800@gambrellstreet.org
SUMMARY:Bible Study / Children & Youth Activities
DESCRIPTION:Church Bible Study and Preschool/Children activities \n 
URL:https://gambrellstreet.org/event/bible-study-children-youth-activities-6/
END:VEVENT
BEGIN:VEVENT
DTSTART;TZID=UTC:20260408T180000
DTEND;TZID=UTC:20260408T200000
DTSTAMP:20260424T180912
CREATED:20260331T224521Z
LAST-MODIFIED:20260331T224521Z
UID:10000424-1775671200-1775678400@gambrellstreet.org
SUMMARY:GENESIS - ESL / Citizenship classes
DESCRIPTION:
URL:https://gambrellstreet.org/event/genesis-esl-citizenship-classes-6/
END:VEVENT
BEGIN:VEVENT
DTSTART;TZID=UTC:20260408T180000
DTEND;TZID=UTC:20260408T203000
DTSTAMP:20260424T180912
CREATED:20260331T224521Z
LAST-MODIFIED:20260331T224521Z
UID:10000425-1775671200-1775680200@gambrellstreet.org
SUMMARY:GENESIS - Worship - In Person / Zoom - Room 100
DESCRIPTION:
URL:https://gambrellstreet.org/event/genesis-worship-in-person-zoom-room-100-6/
END:VEVENT
BEGIN:VEVENT
DTSTART;TZID=UTC:20260408T183000
DTEND;TZID=UTC:20260408T193000
DTSTAMP:20260424T180912
CREATED:20260331T224521Z
LAST-MODIFIED:20260331T224521Z
UID:10000426-1775673000-1775676600@gambrellstreet.org
SUMMARY:Handbell Practice - Room 202
DESCRIPTION:
URL:https://gambrellstreet.org/event/handbell-practice-room-202-6/
END:VEVENT
BEGIN:VEVENT
DTSTART;TZID=UTC:20260408T193000
DTEND;TZID=UTC:20260408T204500
DTSTAMP:20260424T180912
CREATED:20260331T224521Z
LAST-MODIFIED:20260331T224521Z
UID:10000427-1775676600-1775681100@gambrellstreet.org
SUMMARY:Choir Rehearsal
DESCRIPTION:Contact – Mariano Gongora
URL:https://gambrellstreet.org/event/choir-rehearsal-6/
END:VEVENT
BEGIN:VEVENT
DTSTART;TZID=UTC:20260409T083000
DTEND;TZID=UTC:20260409T160000
DTSTAMP:20260424T180912
CREATED:20260331T224521Z
LAST-MODIFIED:20260331T224521Z
UID:10000428-1775723400-1775750400@gambrellstreet.org
SUMMARY:Office Open
DESCRIPTION:
URL:https://gambrellstreet.org/event/office-open-21/
END:VEVENT
BEGIN:VEVENT
DTSTART;TZID=UTC:20260409T090000
DTEND;TZID=UTC:20260409T103000
DTSTAMP:20260424T180912
CREATED:20260331T224525Z
LAST-MODIFIED:20260331T224525Z
UID:10000429-1775725200-1775730600@gambrellstreet.org
SUMMARY:Hubbard Heights ESL Classes
DESCRIPTION:Contact – Joanne Gabel – 817-996-5918
URL:https://gambrellstreet.org/event/hubbard-heights-esl-classes-2/
END:VEVENT
BEGIN:VEVENT
DTSTART;TZID=UTC:20260409T180000
DTEND;TZID=UTC:20260409T200000
DTSTAMP:20260424T180912
CREATED:20260331T224525Z
LAST-MODIFIED:20260331T224525Z
UID:10000430-1775757600-1775764800@gambrellstreet.org
SUMMARY:LNO - Attending the Singing Women Concert 4/19/26
DESCRIPTION:
URL:https://gambrellstreet.org/event/lno-attending-the-singing-women-concert-4-19-26/
END:VEVENT
BEGIN:VEVENT
DTSTART;TZID=UTC:20260410T173000
DTEND;TZID=UTC:20260410T210000
DTSTAMP:20260424T180912
CREATED:20260331T224525Z
LAST-MODIFIED:20260331T224525Z
UID:10000431-1775842200-1775854800@gambrellstreet.org
SUMMARY:Trellis and Youth Movie Event - Off site
DESCRIPTION:Contact – Elias Matos – 817-832-8353
URL:https://gambrellstreet.org/event/trellis-and-youth-movie-event-off-site/
END:VEVENT
BEGIN:VEVENT
DTSTART;TZID=UTC:20260412T090000
DTEND;TZID=UTC:20260412T130000
DTSTAMP:20260424T180912
CREATED:20260331T224525Z
LAST-MODIFIED:20260331T224525Z
UID:10000433-1775984400-1775998800@gambrellstreet.org
SUMMARY:GENESIS - Bible Study & Choir Practice / Worship Service
DESCRIPTION:
URL:https://gambrellstreet.org/event/genesis-bible-study-choir-practice-worship-service-5/
END:VEVENT
BEGIN:VEVENT
DTSTART;TZID=UTC:20260412T090000
DTEND;TZID=UTC:20260412T133000
DTSTAMP:20260424T180912
CREATED:20260331T224525Z
LAST-MODIFIED:20260331T224525Z
UID:10000432-1775984400-1776000600@gambrellstreet.org
SUMMARY:Bible Study / Worship Service & Extended Session
DESCRIPTION:
URL:https://gambrellstreet.org/event/bible-study-worship-service-extended-session-6/
END:VEVENT
BEGIN:VEVENT
DTSTART;TZID=UTC:20260412T120000
DTEND;TZID=UTC:20260412T133000
DTSTAMP:20260424T180912
CREATED:20260331T224526Z
LAST-MODIFIED:20260331T224526Z
UID:10000434-1775995200-1776000600@gambrellstreet.org
SUMMARY:New Members Luncheon - Maston Hall
DESCRIPTION:Contact – Chris Gardner – 936-662-1142
URL:https://gambrellstreet.org/event/new-members-luncheon-maston-hall/
END:VEVENT
BEGIN:VEVENT
DTSTART;TZID=UTC:20260412T170000
DTEND;TZID=UTC:20260412T180000
DTSTAMP:20260424T180912
CREATED:20260331T224526Z
LAST-MODIFIED:20260331T224526Z
UID:10000435-1776013200-1776016800@gambrellstreet.org
SUMMARY:Children's Bible Skills
DESCRIPTION:Contact – Linda Parker – 682-365-9213
URL:https://gambrellstreet.org/event/childrens-bible-skills/
END:VEVENT
BEGIN:VEVENT
DTSTART;TZID=UTC:20260412T170000
DTEND;TZID=UTC:20260412T180000
DTSTAMP:20260424T180912
CREATED:20260331T224526Z
LAST-MODIFIED:20260331T224526Z
UID:10000436-1776013200-1776016800@gambrellstreet.org
SUMMARY:Evening Service - Gwonse Lee
DESCRIPTION:
URL:https://gambrellstreet.org/event/evening-service-gwonse-lee/
END:VEVENT
BEGIN:VEVENT
DTSTART;VALUE=DATE:20260413
DTEND;VALUE=DATE:20260414
DTSTAMP:20260424T180912
CREATED:20260331T224526Z
LAST-MODIFIED:20260331T224526Z
UID:10000437-1776038400-1776124799@gambrellstreet.org
SUMMARY:MESSENGER - Chris Gardner
DESCRIPTION:
URL:https://gambrellstreet.org/event/messenger-chris-gardner/
END:VEVENT
BEGIN:VEVENT
DTSTART;TZID=UTC:20260413T083000
DTEND;TZID=UTC:20260413T160000
DTSTAMP:20260424T180912
CREATED:20260331T224527Z
LAST-MODIFIED:20260331T224527Z
UID:10000438-1776069000-1776096000@gambrellstreet.org
SUMMARY:Office Open
DESCRIPTION:
URL:https://gambrellstreet.org/event/office-open-22/
END:VEVENT
BEGIN:VEVENT
DTSTART;TZID=UTC:20260413T090000
DTEND;TZID=UTC:20260413T150000
DTSTAMP:20260424T180912
CREATED:20260331T224530Z
LAST-MODIFIED:20260331T224530Z
UID:10000439-1776070800-1776092400@gambrellstreet.org
SUMMARY:Christian Women's Job Corp - Room 202
DESCRIPTION:
URL:https://gambrellstreet.org/event/christian-womens-job-corp-room-202-5/
END:VEVENT
BEGIN:VEVENT
DTSTART;TZID=UTC:20260413T153000
DTEND;TZID=UTC:20260413T170000
DTSTAMP:20260424T180912
CREATED:20260331T224531Z
LAST-MODIFIED:20260331T224531Z
UID:10000440-1776094200-1776099600@gambrellstreet.org
SUMMARY:Good News Club Meeting - Hubbard Heights
DESCRIPTION:Contact – Joanne Gabel – 817-996-5916
URL:https://gambrellstreet.org/event/good-news-club-meeting-hubbard-heights-2/
END:VEVENT
BEGIN:VEVENT
DTSTART;TZID=UTC:20260413T180000
DTEND;TZID=UTC:20260413T190000
DTSTAMP:20260424T180912
CREATED:20260331T224531Z
LAST-MODIFIED:20260331T224531Z
UID:10000441-1776103200-1776106800@gambrellstreet.org
SUMMARY:Staff Meeting - Zoom
DESCRIPTION:
URL:https://gambrellstreet.org/event/staff-meeting-zoom-3/
END:VEVENT
END:VCALENDAR