BEGIN:VCALENDAR
VERSION:2.0
PRODID:-//Gambrell Street Baptist Church - ECPv6.15.18//NONSGML v1.0//EN
CALSCALE:GREGORIAN
METHOD:PUBLISH
X-WR-CALNAME:Gambrell Street Baptist Church
X-ORIGINAL-URL:https://gambrellstreet.org
X-WR-CALDESC:Events for Gambrell Street Baptist Church
REFRESH-INTERVAL;VALUE=DURATION:PT1H
X-Robots-Tag:noindex
X-PUBLISHED-TTL:PT1H
BEGIN:VTIMEZONE
TZID:UTC
BEGIN:STANDARD
TZOFFSETFROM:+0000
TZOFFSETTO:+0000
TZNAME:UTC
DTSTART:20250101T000000
END:STANDARD
END:VTIMEZONE
BEGIN:VEVENT
DTSTART;VALUE=DATE:20260422
DTEND;VALUE=DATE:20260423
DTSTAMP:20260425T160631
CREATED:20260331T224544Z
LAST-MODIFIED:20260331T224544Z
UID:10000472-1776816000-1776902399@gambrellstreet.org
SUMMARY:Prayer Team - Trellis / Young Adult
DESCRIPTION:
URL:https://gambrellstreet.org/event/prayer-team-trellis-young-adult-2/
END:VEVENT
BEGIN:VEVENT
DTSTART;TZID=UTC:20260422T083000
DTEND;TZID=UTC:20260422T160000
DTSTAMP:20260425T160631
CREATED:20260331T224544Z
LAST-MODIFIED:20260331T224544Z
UID:10000473-1776846600-1776873600@gambrellstreet.org
SUMMARY:Office Open
DESCRIPTION:
URL:https://gambrellstreet.org/event/office-open-28/
END:VEVENT
BEGIN:VEVENT
DTSTART;TZID=UTC:20260422T090000
DTEND;TZID=UTC:20260422T150000
DTSTAMP:20260425T160631
CREATED:20260331T224545Z
LAST-MODIFIED:20260331T224545Z
UID:10000474-1776848400-1776870000@gambrellstreet.org
SUMMARY:Christian Women's Job Corp - Room 202
DESCRIPTION:
URL:https://gambrellstreet.org/event/christian-womens-job-corp-room-202-10/
CATEGORIES:Campus 1
END:VEVENT
BEGIN:VEVENT
DTSTART;TZID=UTC:20260422T100000
DTEND;TZID=UTC:20260422T113000
DTSTAMP:20260425T160631
CREATED:20260331T224545Z
LAST-MODIFIED:20260331T224545Z
UID:10000475-1776852000-1776857400@gambrellstreet.org
SUMMARY:GENESIS - Prayer Meeting - ZOOM
DESCRIPTION:
URL:https://gambrellstreet.org/event/genesis-prayer-meeting-zoom-8/
CATEGORIES:Campus 1
END:VEVENT
BEGIN:VEVENT
DTSTART;TZID=UTC:20260422T100000
DTEND;TZID=UTC:20260422T120000
DTSTAMP:20260425T160631
CREATED:20260331T224545Z
LAST-MODIFIED:20260331T224545Z
UID:10000476-1776852000-1776859200@gambrellstreet.org
SUMMARY:Ladies' Prayer Group - Prayer Room
DESCRIPTION:
URL:https://gambrellstreet.org/event/ladies-prayer-group-prayer-room-8/
CATEGORIES:Campus 1
END:VEVENT
BEGIN:VEVENT
DTSTART;TZID=UTC:20260422T170000
DTEND;TZID=UTC:20260422T180000
DTSTAMP:20260425T160631
CREATED:20260331T224545Z
LAST-MODIFIED:20260331T224545Z
UID:10000477-1776877200-1776880800@gambrellstreet.org
SUMMARY:Wednesday Night Dinner
DESCRIPTION:
URL:https://gambrellstreet.org/event/wednesday-night-dinner-9/
CATEGORIES:Campus 1
END:VEVENT
BEGIN:VEVENT
DTSTART;TZID=UTC:20260422T180000
DTEND;TZID=UTC:20260422T190000
DTSTAMP:20260425T160631
CREATED:20260331T224545Z
LAST-MODIFIED:20260331T224545Z
UID:10000478-1776880800-1776884400@gambrellstreet.org
SUMMARY:Bible Study / Children & Youth Activities
DESCRIPTION:Church Bible Study and Preschool/Children activities \n 
URL:https://gambrellstreet.org/event/bible-study-children-youth-activities-8/
CATEGORIES:Campus 1
END:VEVENT
BEGIN:VEVENT
DTSTART;TZID=UTC:20260422T180000
DTEND;TZID=UTC:20260422T200000
DTSTAMP:20260425T160631
CREATED:20260331T224546Z
LAST-MODIFIED:20260331T224546Z
UID:10000479-1776880800-1776888000@gambrellstreet.org
SUMMARY:GENESIS - ESL / Citizenship classes
DESCRIPTION:
URL:https://gambrellstreet.org/event/genesis-esl-citizenship-classes-8/
END:VEVENT
BEGIN:VEVENT
DTSTART;TZID=UTC:20260422T180000
DTEND;TZID=UTC:20260422T203000
DTSTAMP:20260425T160631
CREATED:20260331T224546Z
LAST-MODIFIED:20260331T224546Z
UID:10000480-1776880800-1776889800@gambrellstreet.org
SUMMARY:GENESIS - Worship - In Person / Zoom - Room 100
DESCRIPTION:
URL:https://gambrellstreet.org/event/genesis-worship-in-person-zoom-room-100-8/
END:VEVENT
BEGIN:VEVENT
DTSTART;TZID=UTC:20260422T183000
DTEND;TZID=UTC:20260422T193000
DTSTAMP:20260425T160631
CREATED:20260331T224546Z
LAST-MODIFIED:20260331T224546Z
UID:10000481-1776882600-1776886200@gambrellstreet.org
SUMMARY:Handbell Practice - Room 202
DESCRIPTION:
URL:https://gambrellstreet.org/event/handbell-practice-room-202-8/
END:VEVENT
BEGIN:VEVENT
DTSTART;TZID=UTC:20260422T193000
DTEND;TZID=UTC:20260422T204500
DTSTAMP:20260425T160631
CREATED:20260331T224546Z
LAST-MODIFIED:20260331T224546Z
UID:10000482-1776886200-1776890700@gambrellstreet.org
SUMMARY:Choir Practice
DESCRIPTION:
URL:https://gambrellstreet.org/event/choir-practice/
END:VEVENT
BEGIN:VEVENT
DTSTART;TZID=UTC:20260422T193000
DTEND;TZID=UTC:20260422T204500
DTSTAMP:20260425T160631
CREATED:20260331T224546Z
LAST-MODIFIED:20260331T224546Z
UID:10000483-1776886200-1776890700@gambrellstreet.org
SUMMARY:Choir Rehearsal
DESCRIPTION:Contact – Mariano Gongora
URL:https://gambrellstreet.org/event/choir-rehearsal-8/
END:VEVENT
BEGIN:VEVENT
DTSTART;TZID=UTC:20260423T083000
DTEND;TZID=UTC:20260423T160000
DTSTAMP:20260425T160631
CREATED:20260331T224549Z
LAST-MODIFIED:20260331T224549Z
UID:10000484-1776933000-1776960000@gambrellstreet.org
SUMMARY:Office Open
DESCRIPTION:
URL:https://gambrellstreet.org/event/office-open-29/
END:VEVENT
BEGIN:VEVENT
DTSTART;TZID=UTC:20260423T090000
DTEND;TZID=UTC:20260423T103000
DTSTAMP:20260425T160631
CREATED:20260331T224549Z
LAST-MODIFIED:20260331T224549Z
UID:10000485-1776934800-1776940200@gambrellstreet.org
SUMMARY:Hubbard Heights ESL Classes
DESCRIPTION:Contact – Joanne Gabel – 817-996-5918
URL:https://gambrellstreet.org/event/hubbard-heights-esl-classes-6/
END:VEVENT
BEGIN:VEVENT
DTSTART;TZID=UTC:20260426T090000
DTEND;TZID=UTC:20260426T130000
DTSTAMP:20260425T160631
CREATED:20260331T224550Z
LAST-MODIFIED:20260331T224550Z
UID:10000487-1777194000-1777208400@gambrellstreet.org
SUMMARY:GENESIS - Bible Study & Choir Practice / Worship Service
DESCRIPTION:
URL:https://gambrellstreet.org/event/genesis-bible-study-choir-practice-worship-service-7/
END:VEVENT
BEGIN:VEVENT
DTSTART;TZID=UTC:20260426T090000
DTEND;TZID=UTC:20260426T133000
DTSTAMP:20260425T160631
CREATED:20260331T224549Z
LAST-MODIFIED:20260331T224549Z
UID:10000486-1777194000-1777210200@gambrellstreet.org
SUMMARY:Bible Study / Worship Service & Extended Session
DESCRIPTION:
URL:https://gambrellstreet.org/event/bible-study-worship-service-extended-session-8/
END:VEVENT
BEGIN:VEVENT
DTSTART;TZID=UTC:20260426T163000
DTEND;TZID=UTC:20260426T170000
DTSTAMP:20260425T160631
CREATED:20260331T224550Z
LAST-MODIFIED:20260331T224550Z
UID:10000488-1777221000-1777222800@gambrellstreet.org
SUMMARY:Finance Committee - Conference Room
DESCRIPTION:
URL:https://gambrellstreet.org/event/finance-committee-conference-room-2/
END:VEVENT
BEGIN:VEVENT
DTSTART;TZID=UTC:20260426T170000
DTEND;TZID=UTC:20260426T180000
DTSTAMP:20260425T160631
CREATED:20260331T224552Z
LAST-MODIFIED:20260331T224552Z
UID:10000489-1777222800-1777226400@gambrellstreet.org
SUMMARY:Children's Bible Skills
DESCRIPTION:Contact – Linda Parker – 682-365-9213
URL:https://gambrellstreet.org/event/childrens-bible-skills-2/
END:VEVENT
BEGIN:VEVENT
DTSTART;TZID=UTC:20260426T170000
DTEND;TZID=UTC:20260426T180000
DTSTAMP:20260425T160631
CREATED:20260331T224552Z
LAST-MODIFIED:20260331T224552Z
UID:10000490-1777222800-1777226400@gambrellstreet.org
SUMMARY:Evening Service - Becker
DESCRIPTION:
URL:https://gambrellstreet.org/event/evening-service-becker/
END:VEVENT
BEGIN:VEVENT
DTSTART;TZID=UTC:20260426T180000
DTEND;TZID=UTC:20260426T190000
DTSTAMP:20260425T160631
CREATED:20260331T224552Z
LAST-MODIFIED:20260331T224552Z
UID:10000491-1777226400-1777230000@gambrellstreet.org
SUMMARY:Business Conference
DESCRIPTION:
URL:https://gambrellstreet.org/event/business-conference-2/
END:VEVENT
BEGIN:VEVENT
DTSTART;VALUE=DATE:20260427
DTEND;VALUE=DATE:20260428
DTSTAMP:20260425T160631
CREATED:20260331T224552Z
LAST-MODIFIED:20260331T224552Z
UID:10000492-1777248000-1777334399@gambrellstreet.org
SUMMARY:MESSENGER - Jim Spivey
DESCRIPTION:
URL:https://gambrellstreet.org/event/messenger-jim-spivey/
END:VEVENT
BEGIN:VEVENT
DTSTART;VALUE=DATE:20260427
DTEND;VALUE=DATE:20260428
DTSTAMP:20260425T160631
CREATED:20260331T224552Z
LAST-MODIFIED:20260331T224552Z
UID:10000493-1777248000-1777334399@gambrellstreet.org
SUMMARY:Staff Meeting - Zoom
DESCRIPTION:
URL:https://gambrellstreet.org/event/staff-meeting-zoom-4/
END:VEVENT
BEGIN:VEVENT
DTSTART;TZID=UTC:20260427T083000
DTEND;TZID=UTC:20260427T160000
DTSTAMP:20260425T160631
CREATED:20260331T224608Z
LAST-MODIFIED:20260331T224608Z
UID:10000494-1777278600-1777305600@gambrellstreet.org
SUMMARY:Office Open
DESCRIPTION:
URL:https://gambrellstreet.org/event/office-open-30/
CATEGORIES:Campus 1
END:VEVENT
BEGIN:VEVENT
DTSTART;TZID=UTC:20260427T090000
DTEND;TZID=UTC:20260427T150000
DTSTAMP:20260425T160631
CREATED:20260331T224608Z
LAST-MODIFIED:20260331T224608Z
UID:10000495-1777280400-1777302000@gambrellstreet.org
SUMMARY:Christian Women's Job Corp - Room 202
DESCRIPTION:
URL:https://gambrellstreet.org/event/christian-womens-job-corp-room-202-11/
CATEGORIES:Campus 1
END:VEVENT
BEGIN:VEVENT
DTSTART;TZID=UTC:20260427T153000
DTEND;TZID=UTC:20260427T170000
DTSTAMP:20260425T160631
CREATED:20260331T224608Z
LAST-MODIFIED:20260331T224608Z
UID:10000496-1777303800-1777309200@gambrellstreet.org
SUMMARY:Good News Club Meeting - Hubbard Heights
DESCRIPTION:Contact – Joanne Gabel – 817-996-5918
URL:https://gambrellstreet.org/event/good-news-club-meeting-hubbard-heights-4/
CATEGORIES:Campus 1
END:VEVENT
BEGIN:VEVENT
DTSTART;TZID=UTC:20260428T083000
DTEND;TZID=UTC:20260428T160000
DTSTAMP:20260425T160631
CREATED:20260331T224608Z
LAST-MODIFIED:20260331T224608Z
UID:10000497-1777365000-1777392000@gambrellstreet.org
SUMMARY:Office Open
DESCRIPTION:
URL:https://gambrellstreet.org/event/office-open-31/
CATEGORIES:Campus 1
END:VEVENT
BEGIN:VEVENT
DTSTART;TZID=UTC:20260428T090000
DTEND;TZID=UTC:20260428T103000
DTSTAMP:20260425T160631
CREATED:20260331T224609Z
LAST-MODIFIED:20260331T224609Z
UID:10000499-1777366800-1777372200@gambrellstreet.org
SUMMARY:Hubbard Heights ESL Classes
DESCRIPTION:Contact – Joanne Gabel – 817-996-5918
URL:https://gambrellstreet.org/event/hubbard-heights-esl-classes-7/
END:VEVENT
BEGIN:VEVENT
DTSTART;TZID=UTC:20260428T090000
DTEND;TZID=UTC:20260428T150000
DTSTAMP:20260425T160631
CREATED:20260331T224609Z
LAST-MODIFIED:20260331T224609Z
UID:10000498-1777366800-1777388400@gambrellstreet.org
SUMMARY:Christian Women's Job Corp - Room 202
DESCRIPTION:
URL:https://gambrellstreet.org/event/christian-womens-job-corp-room-202-12/
CATEGORIES:Campus 1
END:VEVENT
BEGIN:VEVENT
DTSTART;VALUE=DATE:20260429
DTEND;VALUE=DATE:20260430
DTSTAMP:20260425T160631
CREATED:20260331T224609Z
LAST-MODIFIED:20260331T224609Z
UID:10000500-1777420800-1777507199@gambrellstreet.org
SUMMARY:Prayer Team - Christian Women's Job Corp Graduation
DESCRIPTION:
URL:https://gambrellstreet.org/event/prayer-team-christian-womens-job-corp-graduation/
END:VEVENT
BEGIN:VEVENT
DTSTART;TZID=UTC:20260429T083000
DTEND;TZID=UTC:20260429T160000
DTSTAMP:20260425T160631
CREATED:20260331T224609Z
LAST-MODIFIED:20260331T224609Z
UID:10000501-1777451400-1777478400@gambrellstreet.org
SUMMARY:Office Open
DESCRIPTION:
URL:https://gambrellstreet.org/event/office-open-32/
END:VEVENT
END:VCALENDAR