BEGIN:VCALENDAR
VERSION:2.0
PRODID:-//Gambrell Street Baptist Church - ECPv6.15.18//NONSGML v1.0//EN
CALSCALE:GREGORIAN
METHOD:PUBLISH
X-WR-CALNAME:Gambrell Street Baptist Church
X-ORIGINAL-URL:https://gambrellstreet.org
X-WR-CALDESC:Events for Gambrell Street Baptist Church
REFRESH-INTERVAL;VALUE=DURATION:PT1H
X-Robots-Tag:noindex
X-PUBLISHED-TTL:PT1H
BEGIN:VTIMEZONE
TZID:UTC
BEGIN:STANDARD
TZOFFSETFROM:+0000
TZOFFSETTO:+0000
TZNAME:UTC
DTSTART:20240101T000000
END:STANDARD
END:VTIMEZONE
BEGIN:VEVENT
DTSTART;TZID=UTC:20251124T190000
DTEND;TZID=UTC:20251124T210000
DTSTAMP:20260424T181633
CREATED:20251017T201200Z
LAST-MODIFIED:20251017T201256Z
UID:10000274-1764010800-1764018000@gambrellstreet.org
SUMMARY:Trellis - Young Adult
DESCRIPTION:Join our College & Young Adults Bible study and fellowship at 7pm on Monday nights! We are going through the life of Moses!
URL:https://gambrellstreet.org/event/trellis-young-adult/2025-11-24/
LOCATION:Gambrell Street Baptist Church\, 1616 W Gambrell St\,\, Fort Worth\, TX\, 76115\, United States
ATTACH;FMTTYPE=image/webp:https://gambrellstreet.org/wp-content/uploads/2025/10/dsc05746-300x200-68f2e8c2ce30c.webp
GEO:32.682126078279;-97.34485878974
X-APPLE-STRUCTURED-LOCATION;VALUE=URI;X-ADDRESS=Gambrell Street Baptist Church 1616 W Gambrell St Fort Worth TX 76115 United States;X-APPLE-RADIUS=500;X-TITLE=1616 W Gambrell St\,:geo:-97.34485878974,32.682126078279
END:VEVENT
BEGIN:VEVENT
DTSTART;TZID=UTC:20251126T170000
DTEND;TZID=UTC:20251126T180000
DTSTAMP:20260424T181633
CREATED:20251017T102204Z
LAST-MODIFIED:20251017T103529Z
UID:10000006-1764176400-1764180000@gambrellstreet.org
SUMMARY:Wednesday Night Dinner
DESCRIPTION:Join us at 5pm for dinner! It is free for students.
URL:https://gambrellstreet.org/event/wednesday-night-dinner/2025-11-26/
LOCATION:Maston Hall\, 1616 W. Gambrell Street Fort Worth\, Texas\, TX\, 76115\, United States
ATTACH;FMTTYPE=image/webp:https://gambrellstreet.org/wp-content/uploads/2025/10/dsc08833-scaled-68f25ed23f126-1.webp
GEO:32.682126078279;-97.34485878974
X-APPLE-STRUCTURED-LOCATION;VALUE=URI;X-ADDRESS=Maston Hall 1616 W. Gambrell Street Fort Worth Texas TX 76115 United States;X-APPLE-RADIUS=500;X-TITLE=1616 W. Gambrell Street Fort Worth:geo:-97.34485878974,32.682126078279
END:VEVENT
BEGIN:VEVENT
DTSTART;TZID=UTC:20251126T180000
DTEND;TZID=UTC:20251126T190000
DTSTAMP:20260424T181633
CREATED:20251017T202940Z
LAST-MODIFIED:20251017T202952Z
UID:10000301-1764180000-1764183600@gambrellstreet.org
SUMMARY:Youth Lighthouse
DESCRIPTION:Join our Youth Group at the church on Wednesday nights at 6pm!
URL:https://gambrellstreet.org/event/youth-lighthouse/2025-11-26/
LOCATION:Gambrell Street Baptist Church\, 1616 W Gambrell St\,\, Fort Worth\, TX\, 76115\, United States
ATTACH;FMTTYPE=image/webp:https://gambrellstreet.org/wp-content/uploads/2025/10/large-wide-3374b992-9f00-4be0-8c38-b3be73af9bde-at-2x-68f2ed71cc364.webp
GEO:32.682126078279;-97.34485878974
X-APPLE-STRUCTURED-LOCATION;VALUE=URI;X-ADDRESS=Gambrell Street Baptist Church 1616 W Gambrell St Fort Worth TX 76115 United States;X-APPLE-RADIUS=500;X-TITLE=1616 W Gambrell St\,:geo:-97.34485878974,32.682126078279
END:VEVENT
BEGIN:VEVENT
DTSTART;TZID=UTC:20251130T091500
DTEND;TZID=UTC:20251130T101500
DTSTAMP:20260424T181633
CREATED:20251017T202623Z
LAST-MODIFIED:20251221T071330Z
UID:10000292-1764494100-1764497700@gambrellstreet.org
SUMMARY:Sunday School for All
DESCRIPTION:Gambrell Street Baptist Church 1616 W Gambrell St\,\, Fort Worth\, TX\, United States \nWe offer Bible Study for all ages and we have a variety of classes. When you get here ask about what class may be good for you! When you arrive we can direct you to a Sunday School class designed to fit your needs. \nFor those who are virtual we also offer a Sunday School class on Zoom!  For more information\, please contact: Gardner@gambrellstreet.org \nWe also offer a Sunday School class on you tube. Check with Elias on more details.
URL:https://gambrellstreet.org/event/sunday-school-for-all/2025-11-30/
LOCATION:Gambrell Street Baptist Church\, 1616 W Gambrell St\,\, Fort Worth\, TX\, 76115\, United States
GEO:32.682126078279;-97.34485878974
X-APPLE-STRUCTURED-LOCATION;VALUE=URI;X-ADDRESS=Gambrell Street Baptist Church 1616 W Gambrell St Fort Worth TX 76115 United States;X-APPLE-RADIUS=500;X-TITLE=1616 W Gambrell St\,:geo:-97.34485878974,32.682126078279
END:VEVENT
BEGIN:VEVENT
DTSTART;TZID=UTC:20251130T170000
DTEND;TZID=UTC:20251130T180000
DTSTAMP:20260424T181633
CREATED:20251017T202302Z
LAST-MODIFIED:20251221T071639Z
UID:10000285-1764522000-1764525600@gambrellstreet.org
SUMMARY:Sunday Evening Contemporary Worship
DESCRIPTION:Maston Hall 1616 W. Gambrell Street Fort Worth\, Texas\, TX\, United States \nWe offer Bible Study for all ages and we have a variety of classes. When you get here ask about what class may be good for you! For those who are virtual we also offer a Sunday School class on Zoom!  For more information\, please contact: Gardner@gambrellstreet.org \nThere are no classes offered on Sunday evening.  Currently only the evening worship service is offered.  This may change in January.
URL:https://gambrellstreet.org/event/sunday-evening-contemporary-worship/2025-11-30/
LOCATION:Maston Hall\, 1616 W. Gambrell Street Fort Worth\, Texas\, TX\, 76115\, United States
ATTACH;FMTTYPE=image/webp:https://gambrellstreet.org/wp-content/uploads/2025/10/dsc08805-68f2eb947db1e.webp
GEO:32.682126078279;-97.34485878974
X-APPLE-STRUCTURED-LOCATION;VALUE=URI;X-ADDRESS=Maston Hall 1616 W. Gambrell Street Fort Worth Texas TX 76115 United States;X-APPLE-RADIUS=500;X-TITLE=1616 W. Gambrell Street Fort Worth:geo:-97.34485878974,32.682126078279
END:VEVENT
BEGIN:VEVENT
DTSTART;TZID=UTC:20251201T190000
DTEND;TZID=UTC:20251201T210000
DTSTAMP:20260424T181633
CREATED:20251017T201200Z
LAST-MODIFIED:20251017T201256Z
UID:10000275-1764615600-1764622800@gambrellstreet.org
SUMMARY:Trellis - Young Adult
DESCRIPTION:Join our College & Young Adults Bible study and fellowship at 7pm on Monday nights! We are going through the life of Moses!
URL:https://gambrellstreet.org/event/trellis-young-adult/2025-12-01/
LOCATION:Gambrell Street Baptist Church\, 1616 W Gambrell St\,\, Fort Worth\, TX\, 76115\, United States
ATTACH;FMTTYPE=image/webp:https://gambrellstreet.org/wp-content/uploads/2025/10/dsc05746-300x200-68f2e8c2ce30c.webp
GEO:32.682126078279;-97.34485878974
X-APPLE-STRUCTURED-LOCATION;VALUE=URI;X-ADDRESS=Gambrell Street Baptist Church 1616 W Gambrell St Fort Worth TX 76115 United States;X-APPLE-RADIUS=500;X-TITLE=1616 W Gambrell St\,:geo:-97.34485878974,32.682126078279
END:VEVENT
BEGIN:VEVENT
DTSTART;TZID=UTC:20251203T170000
DTEND;TZID=UTC:20251203T180000
DTSTAMP:20260424T181633
CREATED:20251017T102204Z
LAST-MODIFIED:20251017T103529Z
UID:10000007-1764781200-1764784800@gambrellstreet.org
SUMMARY:Wednesday Night Dinner
DESCRIPTION:Join us at 5pm for dinner! It is free for students.
URL:https://gambrellstreet.org/event/wednesday-night-dinner/2025-12-03/
LOCATION:Maston Hall\, 1616 W. Gambrell Street Fort Worth\, Texas\, TX\, 76115\, United States
ATTACH;FMTTYPE=image/webp:https://gambrellstreet.org/wp-content/uploads/2025/10/dsc08833-scaled-68f25ed23f126-1.webp
GEO:32.682126078279;-97.34485878974
X-APPLE-STRUCTURED-LOCATION;VALUE=URI;X-ADDRESS=Maston Hall 1616 W. Gambrell Street Fort Worth Texas TX 76115 United States;X-APPLE-RADIUS=500;X-TITLE=1616 W. Gambrell Street Fort Worth:geo:-97.34485878974,32.682126078279
END:VEVENT
BEGIN:VEVENT
DTSTART;TZID=UTC:20251203T180000
DTEND;TZID=UTC:20251203T190000
DTSTAMP:20260424T181633
CREATED:20251017T202940Z
LAST-MODIFIED:20251017T202952Z
UID:10000302-1764784800-1764788400@gambrellstreet.org
SUMMARY:Youth Lighthouse
DESCRIPTION:Join our Youth Group at the church on Wednesday nights at 6pm!
URL:https://gambrellstreet.org/event/youth-lighthouse/2025-12-03/
LOCATION:Gambrell Street Baptist Church\, 1616 W Gambrell St\,\, Fort Worth\, TX\, 76115\, United States
ATTACH;FMTTYPE=image/webp:https://gambrellstreet.org/wp-content/uploads/2025/10/large-wide-3374b992-9f00-4be0-8c38-b3be73af9bde-at-2x-68f2ed71cc364.webp
GEO:32.682126078279;-97.34485878974
X-APPLE-STRUCTURED-LOCATION;VALUE=URI;X-ADDRESS=Gambrell Street Baptist Church 1616 W Gambrell St Fort Worth TX 76115 United States;X-APPLE-RADIUS=500;X-TITLE=1616 W Gambrell St\,:geo:-97.34485878974,32.682126078279
END:VEVENT
BEGIN:VEVENT
DTSTART;TZID=UTC:20251207T091500
DTEND;TZID=UTC:20251207T101500
DTSTAMP:20260424T181633
CREATED:20251017T202623Z
LAST-MODIFIED:20251221T071330Z
UID:10000293-1765098900-1765102500@gambrellstreet.org
SUMMARY:Sunday School for All
DESCRIPTION:Gambrell Street Baptist Church 1616 W Gambrell St\,\, Fort Worth\, TX\, United States \nWe offer Bible Study for all ages and we have a variety of classes. When you get here ask about what class may be good for you! When you arrive we can direct you to a Sunday School class designed to fit your needs. \nFor those who are virtual we also offer a Sunday School class on Zoom!  For more information\, please contact: Gardner@gambrellstreet.org \nWe also offer a Sunday School class on you tube. Check with Elias on more details.
URL:https://gambrellstreet.org/event/sunday-school-for-all/2025-12-07/
LOCATION:Gambrell Street Baptist Church\, 1616 W Gambrell St\,\, Fort Worth\, TX\, 76115\, United States
GEO:32.682126078279;-97.34485878974
X-APPLE-STRUCTURED-LOCATION;VALUE=URI;X-ADDRESS=Gambrell Street Baptist Church 1616 W Gambrell St Fort Worth TX 76115 United States;X-APPLE-RADIUS=500;X-TITLE=1616 W Gambrell St\,:geo:-97.34485878974,32.682126078279
END:VEVENT
BEGIN:VEVENT
DTSTART;TZID=UTC:20251208T190000
DTEND;TZID=UTC:20251208T210000
DTSTAMP:20260424T181633
CREATED:20251017T201200Z
LAST-MODIFIED:20251017T201256Z
UID:10000276-1765220400-1765227600@gambrellstreet.org
SUMMARY:Trellis - Young Adult
DESCRIPTION:Join our College & Young Adults Bible study and fellowship at 7pm on Monday nights! We are going through the life of Moses!
URL:https://gambrellstreet.org/event/trellis-young-adult/2025-12-08/
LOCATION:Gambrell Street Baptist Church\, 1616 W Gambrell St\,\, Fort Worth\, TX\, 76115\, United States
ATTACH;FMTTYPE=image/webp:https://gambrellstreet.org/wp-content/uploads/2025/10/dsc05746-300x200-68f2e8c2ce30c.webp
GEO:32.682126078279;-97.34485878974
X-APPLE-STRUCTURED-LOCATION;VALUE=URI;X-ADDRESS=Gambrell Street Baptist Church 1616 W Gambrell St Fort Worth TX 76115 United States;X-APPLE-RADIUS=500;X-TITLE=1616 W Gambrell St\,:geo:-97.34485878974,32.682126078279
END:VEVENT
BEGIN:VEVENT
DTSTART;TZID=UTC:20251210T180000
DTEND;TZID=UTC:20251210T190000
DTSTAMP:20260424T181633
CREATED:20251017T202940Z
LAST-MODIFIED:20251017T202952Z
UID:10000303-1765389600-1765393200@gambrellstreet.org
SUMMARY:Youth Lighthouse
DESCRIPTION:Join our Youth Group at the church on Wednesday nights at 6pm!
URL:https://gambrellstreet.org/event/youth-lighthouse/2025-12-10/
LOCATION:Gambrell Street Baptist Church\, 1616 W Gambrell St\,\, Fort Worth\, TX\, 76115\, United States
ATTACH;FMTTYPE=image/webp:https://gambrellstreet.org/wp-content/uploads/2025/10/large-wide-3374b992-9f00-4be0-8c38-b3be73af9bde-at-2x-68f2ed71cc364.webp
GEO:32.682126078279;-97.34485878974
X-APPLE-STRUCTURED-LOCATION;VALUE=URI;X-ADDRESS=Gambrell Street Baptist Church 1616 W Gambrell St Fort Worth TX 76115 United States;X-APPLE-RADIUS=500;X-TITLE=1616 W Gambrell St\,:geo:-97.34485878974,32.682126078279
END:VEVENT
BEGIN:VEVENT
DTSTART;TZID=UTC:20251214T091500
DTEND;TZID=UTC:20251214T101500
DTSTAMP:20260424T181633
CREATED:20251017T202623Z
LAST-MODIFIED:20251221T071330Z
UID:10000294-1765703700-1765707300@gambrellstreet.org
SUMMARY:Sunday School for All
DESCRIPTION:Gambrell Street Baptist Church 1616 W Gambrell St\,\, Fort Worth\, TX\, United States \nWe offer Bible Study for all ages and we have a variety of classes. When you get here ask about what class may be good for you! When you arrive we can direct you to a Sunday School class designed to fit your needs. \nFor those who are virtual we also offer a Sunday School class on Zoom!  For more information\, please contact: Gardner@gambrellstreet.org \nWe also offer a Sunday School class on you tube. Check with Elias on more details.
URL:https://gambrellstreet.org/event/sunday-school-for-all/2025-12-14/
LOCATION:Gambrell Street Baptist Church\, 1616 W Gambrell St\,\, Fort Worth\, TX\, 76115\, United States
GEO:32.682126078279;-97.34485878974
X-APPLE-STRUCTURED-LOCATION;VALUE=URI;X-ADDRESS=Gambrell Street Baptist Church 1616 W Gambrell St Fort Worth TX 76115 United States;X-APPLE-RADIUS=500;X-TITLE=1616 W Gambrell St\,:geo:-97.34485878974,32.682126078279
END:VEVENT
BEGIN:VEVENT
DTSTART;TZID=UTC:20251215T190000
DTEND;TZID=UTC:20251215T210000
DTSTAMP:20260424T181633
CREATED:20251017T201200Z
LAST-MODIFIED:20251017T201256Z
UID:10000277-1765825200-1765832400@gambrellstreet.org
SUMMARY:Trellis - Young Adult
DESCRIPTION:Join our College & Young Adults Bible study and fellowship at 7pm on Monday nights! We are going through the life of Moses!
URL:https://gambrellstreet.org/event/trellis-young-adult/2025-12-15/
LOCATION:Gambrell Street Baptist Church\, 1616 W Gambrell St\,\, Fort Worth\, TX\, 76115\, United States
ATTACH;FMTTYPE=image/webp:https://gambrellstreet.org/wp-content/uploads/2025/10/dsc05746-300x200-68f2e8c2ce30c.webp
GEO:32.682126078279;-97.34485878974
X-APPLE-STRUCTURED-LOCATION;VALUE=URI;X-ADDRESS=Gambrell Street Baptist Church 1616 W Gambrell St Fort Worth TX 76115 United States;X-APPLE-RADIUS=500;X-TITLE=1616 W Gambrell St\,:geo:-97.34485878974,32.682126078279
END:VEVENT
BEGIN:VEVENT
DTSTART;TZID=UTC:20251217T180000
DTEND;TZID=UTC:20251217T190000
DTSTAMP:20260424T181633
CREATED:20251017T202940Z
LAST-MODIFIED:20251017T202952Z
UID:10000304-1765994400-1765998000@gambrellstreet.org
SUMMARY:Youth Lighthouse
DESCRIPTION:Join our Youth Group at the church on Wednesday nights at 6pm!
URL:https://gambrellstreet.org/event/youth-lighthouse/2025-12-17/
LOCATION:Gambrell Street Baptist Church\, 1616 W Gambrell St\,\, Fort Worth\, TX\, 76115\, United States
ATTACH;FMTTYPE=image/webp:https://gambrellstreet.org/wp-content/uploads/2025/10/large-wide-3374b992-9f00-4be0-8c38-b3be73af9bde-at-2x-68f2ed71cc364.webp
GEO:32.682126078279;-97.34485878974
X-APPLE-STRUCTURED-LOCATION;VALUE=URI;X-ADDRESS=Gambrell Street Baptist Church 1616 W Gambrell St Fort Worth TX 76115 United States;X-APPLE-RADIUS=500;X-TITLE=1616 W Gambrell St\,:geo:-97.34485878974,32.682126078279
END:VEVENT
BEGIN:VEVENT
DTSTART;TZID=UTC:20251221T091500
DTEND;TZID=UTC:20251221T101500
DTSTAMP:20260424T181633
CREATED:20251017T202623Z
LAST-MODIFIED:20251221T071330Z
UID:10000295-1766308500-1766312100@gambrellstreet.org
SUMMARY:Sunday School for All
DESCRIPTION:Gambrell Street Baptist Church 1616 W Gambrell St\,\, Fort Worth\, TX\, United States \nWe offer Bible Study for all ages and we have a variety of classes. When you get here ask about what class may be good for you! When you arrive we can direct you to a Sunday School class designed to fit your needs. \nFor those who are virtual we also offer a Sunday School class on Zoom!  For more information\, please contact: Gardner@gambrellstreet.org \nWe also offer a Sunday School class on you tube. Check with Elias on more details.
URL:https://gambrellstreet.org/event/sunday-school-for-all/2025-12-21/
LOCATION:Gambrell Street Baptist Church\, 1616 W Gambrell St\,\, Fort Worth\, TX\, 76115\, United States
GEO:32.682126078279;-97.34485878974
X-APPLE-STRUCTURED-LOCATION;VALUE=URI;X-ADDRESS=Gambrell Street Baptist Church 1616 W Gambrell St Fort Worth TX 76115 United States;X-APPLE-RADIUS=500;X-TITLE=1616 W Gambrell St\,:geo:-97.34485878974,32.682126078279
END:VEVENT
BEGIN:VEVENT
DTSTART;TZID=UTC:20251222T190000
DTEND;TZID=UTC:20251222T210000
DTSTAMP:20260424T181633
CREATED:20251017T201200Z
LAST-MODIFIED:20251017T201256Z
UID:10000278-1766430000-1766437200@gambrellstreet.org
SUMMARY:Trellis - Young Adult
DESCRIPTION:Join our College & Young Adults Bible study and fellowship at 7pm on Monday nights! We are going through the life of Moses!
URL:https://gambrellstreet.org/event/trellis-young-adult/2025-12-22/
LOCATION:Gambrell Street Baptist Church\, 1616 W Gambrell St\,\, Fort Worth\, TX\, 76115\, United States
ATTACH;FMTTYPE=image/webp:https://gambrellstreet.org/wp-content/uploads/2025/10/dsc05746-300x200-68f2e8c2ce30c.webp
GEO:32.682126078279;-97.34485878974
X-APPLE-STRUCTURED-LOCATION;VALUE=URI;X-ADDRESS=Gambrell Street Baptist Church 1616 W Gambrell St Fort Worth TX 76115 United States;X-APPLE-RADIUS=500;X-TITLE=1616 W Gambrell St\,:geo:-97.34485878974,32.682126078279
END:VEVENT
BEGIN:VEVENT
DTSTART;TZID=UTC:20251224T180000
DTEND;TZID=UTC:20251224T190000
DTSTAMP:20260424T181633
CREATED:20251017T202940Z
LAST-MODIFIED:20251017T202952Z
UID:10000305-1766599200-1766602800@gambrellstreet.org
SUMMARY:Youth Lighthouse
DESCRIPTION:Join our Youth Group at the church on Wednesday nights at 6pm!
URL:https://gambrellstreet.org/event/youth-lighthouse/2025-12-24/
LOCATION:Gambrell Street Baptist Church\, 1616 W Gambrell St\,\, Fort Worth\, TX\, 76115\, United States
ATTACH;FMTTYPE=image/webp:https://gambrellstreet.org/wp-content/uploads/2025/10/large-wide-3374b992-9f00-4be0-8c38-b3be73af9bde-at-2x-68f2ed71cc364.webp
GEO:32.682126078279;-97.34485878974
X-APPLE-STRUCTURED-LOCATION;VALUE=URI;X-ADDRESS=Gambrell Street Baptist Church 1616 W Gambrell St Fort Worth TX 76115 United States;X-APPLE-RADIUS=500;X-TITLE=1616 W Gambrell St\,:geo:-97.34485878974,32.682126078279
END:VEVENT
BEGIN:VEVENT
DTSTART;TZID=UTC:20260201T090000
DTEND;TZID=UTC:20260201T130000
DTSTAMP:20260424T181633
CREATED:20260212T095920Z
LAST-MODIFIED:20260212T095920Z
UID:10000307-1769936400-1769950800@gambrellstreet.org
SUMMARY:GENESIS - Bible Study & Choir Practice / Worship Service
DESCRIPTION:
URL:https://gambrellstreet.org/event/genesis-bible-study-choir-practice-worship-service/
CATEGORIES:Campus 1
END:VEVENT
BEGIN:VEVENT
DTSTART;TZID=UTC:20260201T090000
DTEND;TZID=UTC:20260201T133000
DTSTAMP:20260424T181633
CREATED:20260212T095920Z
LAST-MODIFIED:20260212T095920Z
UID:10000306-1769936400-1769952600@gambrellstreet.org
SUMMARY:Bible Study / Worship Service & Extended Session
DESCRIPTION:
URL:https://gambrellstreet.org/event/bible-study-worship-service-extended-session/
CATEGORIES:Campus 1
END:VEVENT
BEGIN:VEVENT
DTSTART;TZID=UTC:20260201T120000
DTEND;TZID=UTC:20260201T140000
DTSTAMP:20260424T181633
CREATED:20260212T095920Z
LAST-MODIFIED:20260212T095920Z
UID:10000308-1769947200-1769954400@gambrellstreet.org
SUMMARY:Safety Team Training - Room 100\, Thornton Hall
DESCRIPTION:Contact – Larry Parker  817-874-5433 \n2nd Contact – Jim McKinney  817-946-9435
URL:https://gambrellstreet.org/event/safety-team-training-room-100-thornton-hall/
CATEGORIES:Campus 1
END:VEVENT
BEGIN:VEVENT
DTSTART;TZID=UTC:20260201T170000
DTEND;TZID=UTC:20260201T180000
DTSTAMP:20260424T181633
CREATED:20260212T095920Z
LAST-MODIFIED:20260212T095920Z
UID:10000309-1769965200-1769968800@gambrellstreet.org
SUMMARY:Evening Service - Wells
DESCRIPTION:
URL:https://gambrellstreet.org/event/evening-service-wells/
CATEGORIES:Campus 1
END:VEVENT
BEGIN:VEVENT
DTSTART;VALUE=DATE:20260202
DTEND;VALUE=DATE:20260203
DTSTAMP:20260424T181633
CREATED:20260212T095920Z
LAST-MODIFIED:20260212T095920Z
UID:10000310-1769990400-1770076799@gambrellstreet.org
SUMMARY:MESSENGER - Justin Cordery
DESCRIPTION:
URL:https://gambrellstreet.org/event/messenger-justin-cordery/
CATEGORIES:Campus 1
END:VEVENT
BEGIN:VEVENT
DTSTART;TZID=UTC:20260202T180000
DTEND;TZID=UTC:20260202T190000
DTSTAMP:20260424T181633
CREATED:20260212T095922Z
LAST-MODIFIED:20260212T095922Z
UID:10000312-1770055200-1770058800@gambrellstreet.org
SUMMARY:Staff Meeting - Zoom
DESCRIPTION:
URL:https://gambrellstreet.org/event/staff-meeting-zoom/
END:VEVENT
BEGIN:VEVENT
DTSTART;VALUE=DATE:20260204
DTEND;VALUE=DATE:20260205
DTSTAMP:20260424T181633
CREATED:20260212T095922Z
LAST-MODIFIED:20260212T095922Z
UID:10000314-1770163200-1770249599@gambrellstreet.org
SUMMARY:Prayer Team - Carpenter
DESCRIPTION:
URL:https://gambrellstreet.org/event/prayer-team-carpenter/
END:VEVENT
BEGIN:VEVENT
DTSTART;TZID=UTC:20260204T100000
DTEND;TZID=UTC:20260204T113000
DTSTAMP:20260424T181633
CREATED:20260212T095924Z
LAST-MODIFIED:20260212T095924Z
UID:10000316-1770199200-1770204600@gambrellstreet.org
SUMMARY:GENESIS - Prayer Meeting - ZOOM
DESCRIPTION:
URL:https://gambrellstreet.org/event/genesis-prayer-meeting-zoom/
CATEGORIES:Campus 1
END:VEVENT
BEGIN:VEVENT
DTSTART;TZID=UTC:20260204T100000
DTEND;TZID=UTC:20260204T120000
DTSTAMP:20260424T181633
CREATED:20260212T095924Z
LAST-MODIFIED:20260212T095924Z
UID:10000317-1770199200-1770206400@gambrellstreet.org
SUMMARY:Ladies' Prayer Group - Prayer Room
DESCRIPTION:
URL:https://gambrellstreet.org/event/ladies-prayer-group-prayer-room/
CATEGORIES:Campus 1
END:VEVENT
BEGIN:VEVENT
DTSTART;TZID=UTC:20260204T170000
DTEND;TZID=UTC:20260204T180000
DTSTAMP:20260424T181633
CREATED:20260212T095924Z
LAST-MODIFIED:20260212T095924Z
UID:10000318-1770224400-1770228000@gambrellstreet.org
SUMMARY:Wednesday Night Dinner
DESCRIPTION:
URL:https://gambrellstreet.org/event/wednesday-night-dinner-2/
CATEGORIES:Campus 1
END:VEVENT
BEGIN:VEVENT
DTSTART;TZID=UTC:20260204T180000
DTEND;TZID=UTC:20260204T190000
DTSTAMP:20260424T181633
CREATED:20260212T095924Z
LAST-MODIFIED:20260212T095924Z
UID:10000319-1770228000-1770231600@gambrellstreet.org
SUMMARY:Bible Study / Children & Youth Activities
DESCRIPTION:Church Bible Study and Preschool/Children activities \n 
URL:https://gambrellstreet.org/event/bible-study-children-youth-activities/
CATEGORIES:Campus 1
END:VEVENT
BEGIN:VEVENT
DTSTART;TZID=UTC:20260204T180000
DTEND;TZID=UTC:20260204T200000
DTSTAMP:20260424T181633
CREATED:20260212T095924Z
LAST-MODIFIED:20260212T095924Z
UID:10000320-1770228000-1770235200@gambrellstreet.org
SUMMARY:GENESIS - ESL / Citizenship classes
DESCRIPTION:
URL:https://gambrellstreet.org/event/genesis-esl-citizenship-classes/
CATEGORIES:Campus 1
END:VEVENT
BEGIN:VEVENT
DTSTART;TZID=UTC:20260204T180000
DTEND;TZID=UTC:20260204T203000
DTSTAMP:20260424T181633
CREATED:20260212T095924Z
LAST-MODIFIED:20260212T095924Z
UID:10000321-1770228000-1770237000@gambrellstreet.org
SUMMARY:GENESIS - Worship - In Person / Zoom - Room 100
DESCRIPTION:
URL:https://gambrellstreet.org/event/genesis-worship-in-person-zoom-room-100/
END:VEVENT
END:VCALENDAR