BEGIN:VCALENDAR
VERSION:2.0
PRODID:-//Gambrell Street Baptist Church - ECPv6.15.18//NONSGML v1.0//EN
CALSCALE:GREGORIAN
METHOD:PUBLISH
X-WR-CALNAME:Gambrell Street Baptist Church
X-ORIGINAL-URL:https://gambrellstreet.org
X-WR-CALDESC:Events for Gambrell Street Baptist Church
REFRESH-INTERVAL;VALUE=DURATION:PT1H
X-Robots-Tag:noindex
X-PUBLISHED-TTL:PT1H
BEGIN:VTIMEZONE
TZID:UTC
BEGIN:STANDARD
TZOFFSETFROM:+0000
TZOFFSETTO:+0000
TZNAME:UTC
DTSTART:20250101T000000
END:STANDARD
END:VTIMEZONE
BEGIN:VEVENT
DTSTART;TZID=UTC:20260216T190000
DTEND;TZID=UTC:20260216T210000
DTSTAMP:20260424T153919
CREATED:20260212T095957Z
LAST-MODIFIED:20260212T095957Z
UID:10000355-1771268400-1771275600@gambrellstreet.org
SUMMARY:Trellis - Room 200 & 200A
DESCRIPTION:
URL:https://gambrellstreet.org/event/trellis-room-200-200a-2/
END:VEVENT
BEGIN:VEVENT
DTSTART;TZID=UTC:20260216T180000
DTEND;TZID=UTC:20260216T190000
DTSTAMP:20260424T153919
CREATED:20260212T095957Z
LAST-MODIFIED:20260212T095957Z
UID:10000354-1771264800-1771268400@gambrellstreet.org
SUMMARY:Staff Meeting - Zoom
DESCRIPTION:
URL:https://gambrellstreet.org/event/staff-meeting-zoom-2/
END:VEVENT
BEGIN:VEVENT
DTSTART;VALUE=DATE:20260216
DTEND;VALUE=DATE:20260217
DTSTAMP:20260424T153919
CREATED:20260212T095957Z
LAST-MODIFIED:20260212T095957Z
UID:10000352-1771200000-1771286399@gambrellstreet.org
SUMMARY:MESSENGER - Elias Matos
DESCRIPTION:
URL:https://gambrellstreet.org/event/messenger-elias-matos/
END:VEVENT
BEGIN:VEVENT
DTSTART;TZID=UTC:20260215T180000
DTEND;TZID=UTC:20260215T190000
DTSTAMP:20260424T153919
CREATED:20260212T095957Z
LAST-MODIFIED:20260212T095957Z
UID:10000351-1771178400-1771182000@gambrellstreet.org
SUMMARY:Business Conference
DESCRIPTION:
URL:https://gambrellstreet.org/event/business-conference/
END:VEVENT
BEGIN:VEVENT
DTSTART;TZID=UTC:20260215T170000
DTEND;TZID=UTC:20260215T180000
DTSTAMP:20260424T153919
CREATED:20260212T095957Z
LAST-MODIFIED:20260212T095957Z
UID:10000350-1771174800-1771178400@gambrellstreet.org
SUMMARY:Evening Service - Wells
DESCRIPTION:
URL:https://gambrellstreet.org/event/evening-service-wells-2/
CATEGORIES:Campus 1
END:VEVENT
BEGIN:VEVENT
DTSTART;TZID=UTC:20260215T163000
DTEND;TZID=UTC:20260215T170000
DTSTAMP:20260424T153919
CREATED:20260212T095957Z
LAST-MODIFIED:20260212T095957Z
UID:10000349-1771173000-1771174800@gambrellstreet.org
SUMMARY:Finance Committee - Conference Room
DESCRIPTION:Contact – Kim Webb
URL:https://gambrellstreet.org/event/finance-committee-conference-room/
CATEGORIES:Campus 1
END:VEVENT
BEGIN:VEVENT
DTSTART;TZID=UTC:20260215T090000
DTEND;TZID=UTC:20260215T133000
DTSTAMP:20260424T153919
CREATED:20260212T095957Z
LAST-MODIFIED:20260212T095957Z
UID:10000347-1771146000-1771162200@gambrellstreet.org
SUMMARY:Bible Study / Worship Service & Extended Session
DESCRIPTION:
URL:https://gambrellstreet.org/event/bible-study-worship-service-extended-session-3/
CATEGORIES:Campus 1
END:VEVENT
BEGIN:VEVENT
DTSTART;TZID=UTC:20260215T090000
DTEND;TZID=UTC:20260215T130000
DTSTAMP:20260424T153919
CREATED:20260212T095957Z
LAST-MODIFIED:20260212T095957Z
UID:10000348-1771146000-1771160400@gambrellstreet.org
SUMMARY:GENESIS - Bible Study & Choir Practice / Worship Service
DESCRIPTION:
URL:https://gambrellstreet.org/event/genesis-bible-study-choir-practice-worship-service-3/
CATEGORIES:Campus 1
END:VEVENT
BEGIN:VEVENT
DTSTART;TZID=UTC:20260211T193000
DTEND;TZID=UTC:20260211T204500
DTSTAMP:20260424T153919
CREATED:20260212T095942Z
LAST-MODIFIED:20260212T095942Z
UID:10000345-1770838200-1770842700@gambrellstreet.org
SUMMARY:Choir Rehearsal
DESCRIPTION:Contact – Mariano Gongora
URL:https://gambrellstreet.org/event/choir-rehearsal-2/
END:VEVENT
BEGIN:VEVENT
DTSTART;TZID=UTC:20260211T183000
DTEND;TZID=UTC:20260211T193000
DTSTAMP:20260424T153919
CREATED:20260212T095942Z
LAST-MODIFIED:20260212T095942Z
UID:10000344-1770834600-1770838200@gambrellstreet.org
SUMMARY:Handbell Practice - Room 202
DESCRIPTION:
URL:https://gambrellstreet.org/event/handbell-practice-room-202-2/
END:VEVENT
BEGIN:VEVENT
DTSTART;TZID=UTC:20260211T180000
DTEND;TZID=UTC:20260211T203000
DTSTAMP:20260424T153919
CREATED:20260212T095942Z
LAST-MODIFIED:20260212T095942Z
UID:10000343-1770832800-1770841800@gambrellstreet.org
SUMMARY:GENESIS - Worship - In Person / Zoom - Room 100
DESCRIPTION:
URL:https://gambrellstreet.org/event/genesis-worship-in-person-zoom-room-100-2/
END:VEVENT
BEGIN:VEVENT
DTSTART;TZID=UTC:20260211T180000
DTEND;TZID=UTC:20260211T200000
DTSTAMP:20260424T153919
CREATED:20260212T095942Z
LAST-MODIFIED:20260212T095942Z
UID:10000342-1770832800-1770840000@gambrellstreet.org
SUMMARY:GENESIS - ESL / Citizenship classes
DESCRIPTION:
URL:https://gambrellstreet.org/event/genesis-esl-citizenship-classes-2/
END:VEVENT
BEGIN:VEVENT
DTSTART;TZID=UTC:20260211T180000
DTEND;TZID=UTC:20260211T190000
DTSTAMP:20260424T153919
CREATED:20260212T095942Z
LAST-MODIFIED:20260212T095942Z
UID:10000341-1770832800-1770836400@gambrellstreet.org
SUMMARY:Bible Study / Children & Youth Activities
DESCRIPTION:Church Bible Study and Preschool/Children activities \n 
URL:https://gambrellstreet.org/event/bible-study-children-youth-activities-2/
END:VEVENT
BEGIN:VEVENT
DTSTART;TZID=UTC:20260211T170000
DTEND;TZID=UTC:20260211T180000
DTSTAMP:20260424T153919
CREATED:20260212T095941Z
LAST-MODIFIED:20260212T095941Z
UID:10000340-1770829200-1770832800@gambrellstreet.org
SUMMARY:Wednesday Night Dinner
DESCRIPTION:
URL:https://gambrellstreet.org/event/wednesday-night-dinner-3/
CATEGORIES:Campus 1
END:VEVENT
BEGIN:VEVENT
DTSTART;TZID=UTC:20260211T120000
DTEND;TZID=UTC:20260211T130000
DTSTAMP:20260424T153919
CREATED:20260212T095941Z
LAST-MODIFIED:20260212T095941Z
UID:10000339-1770811200-1770814800@gambrellstreet.org
SUMMARY:Prayer Team - Spivey
DESCRIPTION:
URL:https://gambrellstreet.org/event/prayer-team-spivey/
CATEGORIES:Campus 1
END:VEVENT
BEGIN:VEVENT
DTSTART;TZID=UTC:20260211T100000
DTEND;TZID=UTC:20260211T120000
DTSTAMP:20260424T153919
CREATED:20260212T095941Z
LAST-MODIFIED:20260212T095941Z
UID:10000338-1770804000-1770811200@gambrellstreet.org
SUMMARY:Ladies' Prayer Group - Prayer Room
DESCRIPTION:
URL:https://gambrellstreet.org/event/ladies-prayer-group-prayer-room-2/
CATEGORIES:Campus 1
END:VEVENT
BEGIN:VEVENT
DTSTART;TZID=UTC:20260211T100000
DTEND;TZID=UTC:20260211T113000
DTSTAMP:20260424T153919
CREATED:20260212T095941Z
LAST-MODIFIED:20260212T095941Z
UID:10000337-1770804000-1770809400@gambrellstreet.org
SUMMARY:GENESIS - Prayer Meeting - ZOOM
DESCRIPTION:
URL:https://gambrellstreet.org/event/genesis-prayer-meeting-zoom-2/
CATEGORIES:Campus 1
END:VEVENT
BEGIN:VEVENT
DTSTART;TZID=UTC:20260209T190000
DTEND;TZID=UTC:20260209T210000
DTSTAMP:20260424T153919
CREATED:20260212T095927Z
LAST-MODIFIED:20260212T095927Z
UID:10000334-1770663600-1770670800@gambrellstreet.org
SUMMARY:Trellis - Room 200 & 200A
DESCRIPTION:
URL:https://gambrellstreet.org/event/trellis-room-200-200a/
END:VEVENT
BEGIN:VEVENT
DTSTART;TZID=UTC:20260208T170000
DTEND;TZID=UTC:20260208T220000
DTSTAMP:20260424T153919
CREATED:20260212T095927Z
LAST-MODIFIED:20260212T095927Z
UID:10000332-1770570000-1770588000@gambrellstreet.org
SUMMARY:Youth Superbowl Party - Kerry & Mary Frasier's home
DESCRIPTION:Contact – Jennifer Johnson  817-781-5235
URL:https://gambrellstreet.org/event/youth-superbowl-party-kerry-mary-frasiers-home/
END:VEVENT
BEGIN:VEVENT
DTSTART;TZID=UTC:20260208T170000
DTEND;TZID=UTC:20260208T213000
DTSTAMP:20260424T153919
CREATED:20260212T095927Z
LAST-MODIFIED:20260212T095927Z
UID:10000331-1770570000-1770586200@gambrellstreet.org
SUMMARY:Young Adult Super Bowl Party - Larry & Linda Parker's house
DESCRIPTION:Contact – Elias Matos – 
URL:https://gambrellstreet.org/event/young-adult-super-bowl-party-larry-linda-parkers-house/
END:VEVENT
BEGIN:VEVENT
DTSTART;TZID=UTC:20260208T170000
DTEND;TZID=UTC:20260208T180000
DTSTAMP:20260424T153919
CREATED:20260212T095926Z
LAST-MODIFIED:20260212T095926Z
UID:10000330-1770570000-1770573600@gambrellstreet.org
SUMMARY:No Evening Service - Super Bowl
DESCRIPTION:
URL:https://gambrellstreet.org/event/no-evening-service-super-bowl/
CATEGORIES:Campus 1
END:VEVENT
BEGIN:VEVENT
DTSTART;TZID=UTC:20260208T090000
DTEND;TZID=UTC:20260208T133000
DTSTAMP:20260424T153919
CREATED:20260212T095926Z
LAST-MODIFIED:20260212T095926Z
UID:10000328-1770541200-1770557400@gambrellstreet.org
SUMMARY:Bible Study / Worship Service & Extended Session
DESCRIPTION:
URL:https://gambrellstreet.org/event/bible-study-worship-service-extended-session-2/
CATEGORIES:Campus 1
END:VEVENT
BEGIN:VEVENT
DTSTART;TZID=UTC:20260208T090000
DTEND;TZID=UTC:20260208T130000
DTSTAMP:20260424T153919
CREATED:20260212T095926Z
LAST-MODIFIED:20260212T095926Z
UID:10000329-1770541200-1770555600@gambrellstreet.org
SUMMARY:GENESIS - Bible Study & Choir Practice / Worship Service
DESCRIPTION:
URL:https://gambrellstreet.org/event/genesis-bible-study-choir-practice-worship-service-2/
CATEGORIES:Campus 1
END:VEVENT
BEGIN:VEVENT
DTSTART;TZID=UTC:20260207T160000
DTEND;TZID=UTC:20260207T190000
DTSTAMP:20260424T153919
CREATED:20260212T095926Z
LAST-MODIFIED:20260212T095926Z
UID:10000327-1770480000-1770490800@gambrellstreet.org
SUMMARY:GENESIS - UFM - Maston Hall
DESCRIPTION:
URL:https://gambrellstreet.org/event/genesis-ufm-maston-hall/
CATEGORIES:Campus 1
END:VEVENT
BEGIN:VEVENT
DTSTART;TZID=UTC:20260207T090000
DTEND;TZID=UTC:20260207T120000
DTSTAMP:20260424T153919
CREATED:20260212T095926Z
LAST-MODIFIED:20260212T095926Z
UID:10000326-1770454800-1770465600@gambrellstreet.org
SUMMARY:GENESIS - UVM Breakfast - Off site
DESCRIPTION:
URL:https://gambrellstreet.org/event/genesis-uvm-breakfast-off-site/
CATEGORIES:Campus 1
END:VEVENT
BEGIN:VEVENT
DTSTART;TZID=UTC:20260205T080000
DTEND;TZID=UTC:20260205T100000
DTSTAMP:20260424T153919
CREATED:20260212T095925Z
LAST-MODIFIED:20260212T095925Z
UID:10000324-1770278400-1770285600@gambrellstreet.org
SUMMARY:Men's Breakfast - Dixie House
DESCRIPTION:
URL:https://gambrellstreet.org/event/mens-breakfast-dixie-house/
END:VEVENT
BEGIN:VEVENT
DTSTART;TZID=UTC:20260204T193000
DTEND;TZID=UTC:20260204T204500
DTSTAMP:20260424T153919
CREATED:20260212T095925Z
LAST-MODIFIED:20260212T095925Z
UID:10000323-1770233400-1770237900@gambrellstreet.org
SUMMARY:Choir Rehearsal
DESCRIPTION:Contact – Mariano Gongora
URL:https://gambrellstreet.org/event/choir-rehearsal/
END:VEVENT
BEGIN:VEVENT
DTSTART;TZID=UTC:20260204T183000
DTEND;TZID=UTC:20260204T193000
DTSTAMP:20260424T153919
CREATED:20260212T095924Z
LAST-MODIFIED:20260212T095924Z
UID:10000322-1770229800-1770233400@gambrellstreet.org
SUMMARY:Handbell Practice - Room 202
DESCRIPTION:
URL:https://gambrellstreet.org/event/handbell-practice-room-202/
END:VEVENT
BEGIN:VEVENT
DTSTART;TZID=UTC:20260204T180000
DTEND;TZID=UTC:20260204T203000
DTSTAMP:20260424T153919
CREATED:20260212T095924Z
LAST-MODIFIED:20260212T095924Z
UID:10000321-1770228000-1770237000@gambrellstreet.org
SUMMARY:GENESIS - Worship - In Person / Zoom - Room 100
DESCRIPTION:
URL:https://gambrellstreet.org/event/genesis-worship-in-person-zoom-room-100/
END:VEVENT
BEGIN:VEVENT
DTSTART;TZID=UTC:20260204T180000
DTEND;TZID=UTC:20260204T200000
DTSTAMP:20260424T153919
CREATED:20260212T095924Z
LAST-MODIFIED:20260212T095924Z
UID:10000320-1770228000-1770235200@gambrellstreet.org
SUMMARY:GENESIS - ESL / Citizenship classes
DESCRIPTION:
URL:https://gambrellstreet.org/event/genesis-esl-citizenship-classes/
CATEGORIES:Campus 1
END:VEVENT
END:VCALENDAR