BEGIN:VCALENDAR
VERSION:2.0
PRODID:-//Gambrell Street Baptist Church - ECPv6.15.18//NONSGML v1.0//EN
CALSCALE:GREGORIAN
METHOD:PUBLISH
X-WR-CALNAME:Gambrell Street Baptist Church
X-ORIGINAL-URL:https://gambrellstreet.org
X-WR-CALDESC:Events for Gambrell Street Baptist Church
REFRESH-INTERVAL;VALUE=DURATION:PT1H
X-Robots-Tag:noindex
X-PUBLISHED-TTL:PT1H
BEGIN:VTIMEZONE
TZID:Asia/Karachi
BEGIN:STANDARD
TZOFFSETFROM:+0500
TZOFFSETTO:+0500
TZNAME:PKT
DTSTART:20250101T000000
END:STANDARD
END:VTIMEZONE
BEGIN:VEVENT
DTSTART;TZID=Asia/Karachi:20260503T170000
DTEND;TZID=Asia/Karachi:20260503T180000
DTSTAMP:20260424T052500
CREATED:20260401T035006Z
LAST-MODIFIED:20260401T035006Z
UID:10000520-1777827600-1777831200@gambrellstreet.org
SUMMARY:Evening Service - Gardner
DESCRIPTION:
URL:https://gambrellstreet.org/event/evening-service-gardner/
CATEGORIES:Campus 1
END:VEVENT
BEGIN:VEVENT
DTSTART;TZID=Asia/Karachi:20260504T083000
DTEND;TZID=Asia/Karachi:20260504T160000
DTSTAMP:20260424T052500
CREATED:20260401T035006Z
LAST-MODIFIED:20260401T035006Z
UID:10000521-1777883400-1777910400@gambrellstreet.org
SUMMARY:Office Open
DESCRIPTION:
URL:https://gambrellstreet.org/event/office-open-34/
CATEGORIES:Campus 1
END:VEVENT
BEGIN:VEVENT
DTSTART;TZID=Asia/Karachi:20260504T153000
DTEND;TZID=Asia/Karachi:20260504T170000
DTSTAMP:20260424T052500
CREATED:20260401T035006Z
LAST-MODIFIED:20260401T035006Z
UID:10000522-1777908600-1777914000@gambrellstreet.org
SUMMARY:Good News Club Meeting - Hubbard Heights
DESCRIPTION:Contact – Joanne Gabel – 817-996-5918
URL:https://gambrellstreet.org/event/good-news-club-meeting-hubbard-heights-5/
CATEGORIES:Campus 1
END:VEVENT
BEGIN:VEVENT
DTSTART;TZID=Asia/Karachi:20260505T083000
DTEND;TZID=Asia/Karachi:20260505T160000
DTSTAMP:20260424T052500
CREATED:20260401T035006Z
LAST-MODIFIED:20260401T035006Z
UID:10000523-1777969800-1777996800@gambrellstreet.org
SUMMARY:Office Open
DESCRIPTION:
URL:https://gambrellstreet.org/event/office-open-35/
CATEGORIES:Campus 1
END:VEVENT
BEGIN:VEVENT
DTSTART;TZID=Asia/Karachi:20260505T090000
DTEND;TZID=Asia/Karachi:20260505T103000
DTSTAMP:20260424T052500
CREATED:20260401T035006Z
LAST-MODIFIED:20260401T035006Z
UID:10000524-1777971600-1777977000@gambrellstreet.org
SUMMARY:Hubbard Heights ESL Classes
DESCRIPTION:Contact – Joanne Gabel – 817-996-5918
URL:https://gambrellstreet.org/event/hubbard-heights-esl-classes-9/
CATEGORIES:Campus 1
END:VEVENT
BEGIN:VEVENT
DTSTART;VALUE=DATE:20260506
DTEND;VALUE=DATE:20260507
DTSTAMP:20260424T052500
CREATED:20260401T035010Z
LAST-MODIFIED:20260401T035010Z
UID:10000525-1778025600-1778111999@gambrellstreet.org
SUMMARY:Prayer Team - Barnes/Wilson/Cordery
DESCRIPTION:
URL:https://gambrellstreet.org/event/prayer-team-barnes-wilson-cordery/
CATEGORIES:Campus 1
END:VEVENT
BEGIN:VEVENT
DTSTART;TZID=Asia/Karachi:20260506T083000
DTEND;TZID=Asia/Karachi:20260506T160000
DTSTAMP:20260424T052500
CREATED:20260401T035010Z
LAST-MODIFIED:20260401T035010Z
UID:10000526-1778056200-1778083200@gambrellstreet.org
SUMMARY:Office Open
DESCRIPTION:
URL:https://gambrellstreet.org/event/office-open-36/
CATEGORIES:Campus 1
END:VEVENT
BEGIN:VEVENT
DTSTART;TZID=Asia/Karachi:20260506T100000
DTEND;TZID=Asia/Karachi:20260506T113000
DTSTAMP:20260424T052500
CREATED:20260401T035011Z
LAST-MODIFIED:20260401T035011Z
UID:10000527-1778061600-1778067000@gambrellstreet.org
SUMMARY:GENESIS - Prayer Meeting - ZOOM
DESCRIPTION:
URL:https://gambrellstreet.org/event/genesis-prayer-meeting-zoom-10/
CATEGORIES:Campus 1
END:VEVENT
BEGIN:VEVENT
DTSTART;TZID=Asia/Karachi:20260506T100000
DTEND;TZID=Asia/Karachi:20260506T120000
DTSTAMP:20260424T052500
CREATED:20260401T035011Z
LAST-MODIFIED:20260401T035011Z
UID:10000528-1778061600-1778068800@gambrellstreet.org
SUMMARY:Ladies' Prayer Group - Prayer Room
DESCRIPTION:
URL:https://gambrellstreet.org/event/ladies-prayer-group-prayer-room-10/
CATEGORIES:Campus 1
END:VEVENT
BEGIN:VEVENT
DTSTART;TZID=Asia/Karachi:20260506T170000
DTEND;TZID=Asia/Karachi:20260506T180000
DTSTAMP:20260424T052500
CREATED:20260401T035011Z
LAST-MODIFIED:20260401T035011Z
UID:10000529-1778086800-1778090400@gambrellstreet.org
SUMMARY:Wednesday Night Dinner
DESCRIPTION:
URL:https://gambrellstreet.org/event/wednesday-night-dinner-11/
CATEGORIES:Campus 1
END:VEVENT
BEGIN:VEVENT
DTSTART;TZID=Asia/Karachi:20260506T180000
DTEND;TZID=Asia/Karachi:20260506T190000
DTSTAMP:20260424T052500
CREATED:20260401T035037Z
LAST-MODIFIED:20260401T035037Z
UID:10000530-1778090400-1778094000@gambrellstreet.org
SUMMARY:Bible Study / Children & Youth Activities
DESCRIPTION:Church Bible Study and Preschool/Children activities \n 
URL:https://gambrellstreet.org/event/bible-study-children-youth-activities-10/
CATEGORIES:Campus 1
END:VEVENT
BEGIN:VEVENT
DTSTART;TZID=Asia/Karachi:20260506T180000
DTEND;TZID=Asia/Karachi:20260506T200000
DTSTAMP:20260424T052500
CREATED:20260401T035037Z
LAST-MODIFIED:20260401T035037Z
UID:10000531-1778090400-1778097600@gambrellstreet.org
SUMMARY:GENESIS - ESL / Citizenship classes
DESCRIPTION:
URL:https://gambrellstreet.org/event/genesis-esl-citizenship-classes-10/
CATEGORIES:Campus 1
END:VEVENT
BEGIN:VEVENT
DTSTART;TZID=Asia/Karachi:20260506T180000
DTEND;TZID=Asia/Karachi:20260506T203000
DTSTAMP:20260424T052500
CREATED:20260401T035037Z
LAST-MODIFIED:20260401T035037Z
UID:10000532-1778090400-1778099400@gambrellstreet.org
SUMMARY:GENESIS - Worship - In Person / Zoom - Room 100
DESCRIPTION:
URL:https://gambrellstreet.org/event/genesis-worship-in-person-zoom-room-100-10/
CATEGORIES:Campus 1
END:VEVENT
BEGIN:VEVENT
DTSTART;TZID=Asia/Karachi:20260506T183000
DTEND;TZID=Asia/Karachi:20260506T193000
DTSTAMP:20260424T052500
CREATED:20260401T035037Z
LAST-MODIFIED:20260401T035037Z
UID:10000533-1778092200-1778095800@gambrellstreet.org
SUMMARY:Handbell Practice - Room 202
DESCRIPTION:
URL:https://gambrellstreet.org/event/handbell-practice-room-202-10/
CATEGORIES:Campus 1
END:VEVENT
BEGIN:VEVENT
DTSTART;TZID=Asia/Karachi:20260506T193000
DTEND;TZID=Asia/Karachi:20260506T204500
DTSTAMP:20260424T052500
CREATED:20260401T035037Z
LAST-MODIFIED:20260401T035037Z
UID:10000534-1778095800-1778100300@gambrellstreet.org
SUMMARY:Choir Practice
DESCRIPTION:
URL:https://gambrellstreet.org/event/choir-practice-3/
CATEGORIES:Campus 1
END:VEVENT
BEGIN:VEVENT
DTSTART;TZID=Asia/Karachi:20260506T193000
DTEND;TZID=Asia/Karachi:20260506T204500
DTSTAMP:20260424T052500
CREATED:20260401T035050Z
LAST-MODIFIED:20260401T035050Z
UID:10000535-1778095800-1778100300@gambrellstreet.org
SUMMARY:Choir Rehearsal
DESCRIPTION:Contact – Mariano Gongora
URL:https://gambrellstreet.org/event/choir-rehearsal-10/
CATEGORIES:Campus 1
END:VEVENT
BEGIN:VEVENT
DTSTART;VALUE=DATE:20260507
DTEND;VALUE=DATE:20260512
DTSTAMP:20260424T052500
CREATED:20260401T035050Z
LAST-MODIFIED:20260401T035050Z
UID:10000536-1778112000-1778543999@gambrellstreet.org
SUMMARY:Elias Matos out - May 7-11
DESCRIPTION:
URL:https://gambrellstreet.org/event/elias-matos-out-may-7-11/
CATEGORIES:Campus 1
END:VEVENT
BEGIN:VEVENT
DTSTART;TZID=Asia/Karachi:20260507T083000
DTEND;TZID=Asia/Karachi:20260507T160000
DTSTAMP:20260424T052500
CREATED:20260401T035050Z
LAST-MODIFIED:20260401T035050Z
UID:10000537-1778142600-1778169600@gambrellstreet.org
SUMMARY:Office Open
DESCRIPTION:
URL:https://gambrellstreet.org/event/office-open-37/
CATEGORIES:Campus 1
END:VEVENT
BEGIN:VEVENT
DTSTART;TZID=Asia/Karachi:20260507T090000
DTEND;TZID=Asia/Karachi:20260507T103000
DTSTAMP:20260424T052500
CREATED:20260401T035050Z
LAST-MODIFIED:20260401T035050Z
UID:10000538-1778144400-1778149800@gambrellstreet.org
SUMMARY:Hubbard Heights ESL Classes
DESCRIPTION:Contact – Joanne Gabel – 817-996-5918
URL:https://gambrellstreet.org/event/hubbard-heights-esl-classes-10/
CATEGORIES:Campus 1
END:VEVENT
BEGIN:VEVENT
DTSTART;VALUE=DATE:20260510
DTEND;VALUE=DATE:20260511
DTSTAMP:20260424T052500
CREATED:20260401T035050Z
LAST-MODIFIED:20260401T035050Z
UID:10000539-1778371200-1778457599@gambrellstreet.org
SUMMARY:Mother's Day
DESCRIPTION:
URL:https://gambrellstreet.org/event/mothers-day/
CATEGORIES:Campus 1
END:VEVENT
BEGIN:VEVENT
DTSTART;TZID=Asia/Karachi:20260510T090000
DTEND;TZID=Asia/Karachi:20260510T130000
DTSTAMP:20260424T052500
CREATED:20260401T035053Z
LAST-MODIFIED:20260401T035053Z
UID:10000541-1778403600-1778418000@gambrellstreet.org
SUMMARY:GENESIS - Bible Study & Choir Practice / Worship Service
DESCRIPTION:
URL:https://gambrellstreet.org/event/genesis-bible-study-choir-practice-worship-service-9/
CATEGORIES:Campus 1
END:VEVENT
BEGIN:VEVENT
DTSTART;TZID=Asia/Karachi:20260510T090000
DTEND;TZID=Asia/Karachi:20260510T133000
DTSTAMP:20260424T052500
CREATED:20260401T035053Z
LAST-MODIFIED:20260401T035053Z
UID:10000540-1778403600-1778419800@gambrellstreet.org
SUMMARY:Bible Study / Worship Service & Extended Session
DESCRIPTION:
URL:https://gambrellstreet.org/event/bible-study-worship-service-extended-session-10/
CATEGORIES:Campus 1
END:VEVENT
BEGIN:VEVENT
DTSTART;TZID=Asia/Karachi:20260510T120000
DTEND;TZID=Asia/Karachi:20260510T140000
DTSTAMP:20260424T052500
CREATED:20260401T035053Z
LAST-MODIFIED:20260401T035053Z
UID:10000542-1778414400-1778421600@gambrellstreet.org
SUMMARY:GENESIS - Mother's Day Lunch - Maston Hall
DESCRIPTION:Contact – George Swan  817-845-9027
URL:https://gambrellstreet.org/event/genesis-mothers-day-lunch-maston-hall/
CATEGORIES:Campus 1
END:VEVENT
BEGIN:VEVENT
DTSTART;TZID=Asia/Karachi:20260510T170000
DTEND;TZID=Asia/Karachi:20260510T180000
DTSTAMP:20260424T052500
CREATED:20260401T035053Z
LAST-MODIFIED:20260401T035053Z
UID:10000543-1778432400-1778436000@gambrellstreet.org
SUMMARY:No Evening Service - Mother's Day
DESCRIPTION:
URL:https://gambrellstreet.org/event/no-evening-service-mothers-day/
CATEGORIES:Campus 1
END:VEVENT
BEGIN:VEVENT
DTSTART;VALUE=DATE:20260511
DTEND;VALUE=DATE:20260512
DTSTAMP:20260424T052500
CREATED:20260401T035053Z
LAST-MODIFIED:20260401T035053Z
UID:10000544-1778457600-1778543999@gambrellstreet.org
SUMMARY:MESSENGER - Jennifer Johnson
DESCRIPTION:
URL:https://gambrellstreet.org/event/messenger-jennifer-johnson/
CATEGORIES:Campus 1
END:VEVENT
BEGIN:VEVENT
DTSTART;TZID=Asia/Karachi:20260511T083000
DTEND;TZID=Asia/Karachi:20260511T160000
DTSTAMP:20260424T052500
CREATED:20260401T035107Z
LAST-MODIFIED:20260401T035107Z
UID:10000545-1778488200-1778515200@gambrellstreet.org
SUMMARY:Office Open
DESCRIPTION:
URL:https://gambrellstreet.org/event/office-open-38/
CATEGORIES:Campus 1
END:VEVENT
BEGIN:VEVENT
DTSTART;TZID=Asia/Karachi:20260511T180000
DTEND;TZID=Asia/Karachi:20260511T190000
DTSTAMP:20260424T052500
CREATED:20260401T035107Z
LAST-MODIFIED:20260401T035107Z
UID:10000546-1778522400-1778526000@gambrellstreet.org
SUMMARY:Staff Meeting - Zoom
DESCRIPTION:
URL:https://gambrellstreet.org/event/staff-meeting-zoom-5/
CATEGORIES:Campus 1
END:VEVENT
BEGIN:VEVENT
DTSTART;TZID=Asia/Karachi:20260512T083000
DTEND;TZID=Asia/Karachi:20260512T160000
DTSTAMP:20260424T052500
CREATED:20260401T035108Z
LAST-MODIFIED:20260401T035108Z
UID:10000547-1778574600-1778601600@gambrellstreet.org
SUMMARY:Office Open
DESCRIPTION:
URL:https://gambrellstreet.org/event/office-open-39/
CATEGORIES:Campus 1
END:VEVENT
BEGIN:VEVENT
DTSTART;TZID=Asia/Karachi:20260512T090000
DTEND;TZID=Asia/Karachi:20260512T103000
DTSTAMP:20260424T052500
CREATED:20260401T035108Z
LAST-MODIFIED:20260401T035108Z
UID:10000548-1778576400-1778581800@gambrellstreet.org
SUMMARY:Hubbard Heights ESL Classes
DESCRIPTION:Contact – Joanne Gabel – 817-996-5918
URL:https://gambrellstreet.org/event/hubbard-heights-esl-classes-11/
CATEGORIES:Campus 1
END:VEVENT
BEGIN:VEVENT
DTSTART;VALUE=DATE:20260513
DTEND;VALUE=DATE:20260514
DTSTAMP:20260424T052500
CREATED:20260401T035108Z
LAST-MODIFIED:20260401T035108Z
UID:10000549-1778630400-1778716799@gambrellstreet.org
SUMMARY:Prayer Team - Johnson
DESCRIPTION:
URL:https://gambrellstreet.org/event/prayer-team-johnson/
CATEGORIES:Campus 1
END:VEVENT
END:VCALENDAR