BEGIN:VCALENDAR
VERSION:2.0
PRODID:-//Gambrell Street Baptist Church - ECPv6.15.18//NONSGML v1.0//EN
CALSCALE:GREGORIAN
METHOD:PUBLISH
X-WR-CALNAME:Gambrell Street Baptist Church
X-ORIGINAL-URL:https://gambrellstreet.org
X-WR-CALDESC:Events for Gambrell Street Baptist Church
REFRESH-INTERVAL;VALUE=DURATION:PT1H
X-Robots-Tag:noindex
X-PUBLISHED-TTL:PT1H
BEGIN:VTIMEZONE
TZID:UTC
BEGIN:STANDARD
TZOFFSETFROM:+0000
TZOFFSETTO:+0000
TZNAME:UTC
DTSTART:20250101T000000
END:STANDARD
END:VTIMEZONE
BEGIN:VTIMEZONE
TZID:Asia/Karachi
BEGIN:STANDARD
TZOFFSETFROM:+0500
TZOFFSETTO:+0500
TZNAME:PKT
DTSTART:20250101T000000
END:STANDARD
END:VTIMEZONE
BEGIN:VEVENT
DTSTART;VALUE=DATE:20260415
DTEND;VALUE=DATE:20260416
DTSTAMP:20260424T024521
CREATED:20260331T224534Z
LAST-MODIFIED:20260331T224534Z
UID:10000446-1776211200-1776297599@gambrellstreet.org
SUMMARY:Prayer Team - Wells
DESCRIPTION:
URL:https://gambrellstreet.org/event/prayer-team-wells-2/
CATEGORIES:Campus 1
END:VEVENT
BEGIN:VEVENT
DTSTART;TZID=UTC:20260414T090000
DTEND;TZID=UTC:20260414T150000
DTSTAMP:20260424T024521
CREATED:20260331T224534Z
LAST-MODIFIED:20260331T224534Z
UID:10000444-1776157200-1776178800@gambrellstreet.org
SUMMARY:Christian Women's Job Corp - Room 202
DESCRIPTION:
URL:https://gambrellstreet.org/event/christian-womens-job-corp-room-202-6/
CATEGORIES:Campus 1
END:VEVENT
BEGIN:VEVENT
DTSTART;TZID=UTC:20260414T090000
DTEND;TZID=UTC:20260414T103000
DTSTAMP:20260424T024521
CREATED:20260331T224534Z
LAST-MODIFIED:20260331T224534Z
UID:10000445-1776157200-1776162600@gambrellstreet.org
SUMMARY:Hubbard Heights ESL Classes
DESCRIPTION:Contact – Joanne Gabel – 817-996-5918
URL:https://gambrellstreet.org/event/hubbard-heights-esl-classes-3/
CATEGORIES:Campus 1
END:VEVENT
BEGIN:VEVENT
DTSTART;TZID=UTC:20260408T083000
DTEND;TZID=UTC:20260408T160000
DTSTAMP:20260424T024521
CREATED:20260331T224519Z
LAST-MODIFIED:20260331T224519Z
UID:10000418-1775637000-1775664000@gambrellstreet.org
SUMMARY:Office Open
DESCRIPTION:
URL:https://gambrellstreet.org/event/office-open-20/
CATEGORIES:Campus 1
END:VEVENT
BEGIN:VEVENT
DTSTART;VALUE=DATE:20260408
DTEND;VALUE=DATE:20260409
DTSTAMP:20260424T024521
CREATED:20260331T224518Z
LAST-MODIFIED:20260331T224518Z
UID:10000417-1775606400-1775692799@gambrellstreet.org
SUMMARY:Prayer Team - Spivey
DESCRIPTION:
URL:https://gambrellstreet.org/event/prayer-team-spivey-2/
CATEGORIES:Campus 1
END:VEVENT
BEGIN:VEVENT
DTSTART;TZID=UTC:20260407T090000
DTEND;TZID=UTC:20260407T150000
DTSTAMP:20260424T024521
CREATED:20260331T224518Z
LAST-MODIFIED:20260331T224518Z
UID:10000415-1775552400-1775574000@gambrellstreet.org
SUMMARY:Christian Women's Job Corp - Room 202
DESCRIPTION:
URL:https://gambrellstreet.org/event/christian-womens-job-corp-room-202-3/
CATEGORIES:Campus 1
END:VEVENT
BEGIN:VEVENT
DTSTART;TZID=UTC:20260407T090000
DTEND;TZID=UTC:20260407T103000
DTSTAMP:20260424T024521
CREATED:20260331T224518Z
LAST-MODIFIED:20260331T224518Z
UID:10000416-1775552400-1775557800@gambrellstreet.org
SUMMARY:Hubbard Heights ESL Classes
DESCRIPTION:Contact – Joanne Gabel – 817-996-5918
URL:https://gambrellstreet.org/event/hubbard-heights-esl-classes/
CATEGORIES:Campus 1
END:VEVENT
BEGIN:VEVENT
DTSTART;TZID=UTC:20260407T083000
DTEND;TZID=UTC:20260407T160000
DTSTAMP:20260424T024521
CREATED:20260331T224518Z
LAST-MODIFIED:20260331T224518Z
UID:10000414-1775550600-1775577600@gambrellstreet.org
SUMMARY:Office Open
DESCRIPTION:
URL:https://gambrellstreet.org/event/office-open-19/
CATEGORIES:Campus 1
END:VEVENT
BEGIN:VEVENT
DTSTART;TZID=Asia/Karachi:20260404T110000
DTEND;TZID=Asia/Karachi:20260404T120000
DTSTAMP:20260424T024521
CREATED:20260331T215449Z
LAST-MODIFIED:20260331T215449Z
UID:10000388-1775300400-1775304000@gambrellstreet.org
SUMMARY:E²: Easter Explained
DESCRIPTION:📅 April 4th | 🕚 11:00 AM \n✨ Join us for a meaningful and joyful Easter experience! \n🍽️ FREE Lunch (11:00 AM – 12:00 PM)🎉 Interactive Church Tour🎯 Fun Activities for All Ages🎁 Exciting Door Prizes \n💒 Hosted by Gambrell Street Church \n👉 Come discover the true meaning of Easter in a welcoming and friendly environment. Bring your family & friends—everyone is invited!
URL:https://gambrellstreet.org/event/easter-explained/
CATEGORIES:Campus 1
ATTACH;FMTTYPE=image/jpeg:https://gambrellstreet.org/wp-content/uploads/2026/04/IMG-20260331-WA0010.jpg
END:VEVENT
BEGIN:VEVENT
DTSTART;VALUE=DATE:20260403
DTEND;VALUE=DATE:20260404
DTSTAMP:20260424T024521
CREATED:20260331T224502Z
LAST-MODIFIED:20260331T224502Z
UID:10000403-1775174400-1775260799@gambrellstreet.org
SUMMARY:Good Friday
DESCRIPTION:
URL:https://gambrellstreet.org/event/good-friday/
CATEGORIES:Campus 1
END:VEVENT
BEGIN:VEVENT
DTSTART;TZID=UTC:20260402T190000
DTEND;TZID=UTC:20260402T200000
DTSTAMP:20260424T024521
CREATED:20260331T224502Z
LAST-MODIFIED:20260331T224502Z
UID:10000402-1775156400-1775160000@gambrellstreet.org
SUMMARY:Maundy Thursday Worship Service - Sanctuary
DESCRIPTION:Contact – Ben Caston – 817-226-0835
URL:https://gambrellstreet.org/event/maundy-thursday-worship-service-sanctuary/
CATEGORIES:Campus 1
END:VEVENT
BEGIN:VEVENT
DTSTART;TZID=UTC:20260402T080000
DTEND;TZID=UTC:20260402T100000
DTSTAMP:20260424T024521
CREATED:20260331T224502Z
LAST-MODIFIED:20260331T224502Z
UID:10000401-1775116800-1775124000@gambrellstreet.org
SUMMARY:Men's Breakfast - Dixie House
DESCRIPTION:
URL:https://gambrellstreet.org/event/mens-breakfast-dixie-house-3/
CATEGORIES:Campus 1
END:VEVENT
BEGIN:VEVENT
DTSTART;VALUE=DATE:20260402
DTEND;VALUE=DATE:20260403
DTSTAMP:20260424T024521
CREATED:20260331T224502Z
LAST-MODIFIED:20260331T224502Z
UID:10000400-1775088000-1775174399@gambrellstreet.org
SUMMARY:OFFICE CLOSED - HOLIDAY
DESCRIPTION:
URL:https://gambrellstreet.org/event/office-closed-holiday/
CATEGORIES:Campus 1
END:VEVENT
BEGIN:VEVENT
DTSTART;TZID=UTC:20260401T193000
DTEND;TZID=UTC:20260401T204500
DTSTAMP:20260424T024521
CREATED:20260331T224502Z
LAST-MODIFIED:20260331T224502Z
UID:10000399-1775071800-1775076300@gambrellstreet.org
SUMMARY:Choir Rehearsal
DESCRIPTION:Contact – Mariano Gongora
URL:https://gambrellstreet.org/event/choir-rehearsal-5/
CATEGORIES:Campus 1
END:VEVENT
BEGIN:VEVENT
DTSTART;TZID=UTC:20260401T183000
DTEND;TZID=UTC:20260401T193000
DTSTAMP:20260424T024521
CREATED:20260331T224500Z
LAST-MODIFIED:20260331T224500Z
UID:10000398-1775068200-1775071800@gambrellstreet.org
SUMMARY:Handbell Practice - Room 202
DESCRIPTION:
URL:https://gambrellstreet.org/event/handbell-practice-room-202-5/
CATEGORIES:Campus 1
END:VEVENT
BEGIN:VEVENT
DTSTART;TZID=UTC:20260401T180000
DTEND;TZID=UTC:20260401T203000
DTSTAMP:20260424T024521
CREATED:20260331T224500Z
LAST-MODIFIED:20260331T224500Z
UID:10000397-1775066400-1775075400@gambrellstreet.org
SUMMARY:GENESIS - Worship - In Person / Zoom - Room 100
DESCRIPTION:
URL:https://gambrellstreet.org/event/genesis-worship-in-person-zoom-room-100-5/
CATEGORIES:Campus 1
END:VEVENT
BEGIN:VEVENT
DTSTART;TZID=UTC:20260401T180000
DTEND;TZID=UTC:20260401T200000
DTSTAMP:20260424T024521
CREATED:20260331T224500Z
LAST-MODIFIED:20260331T224500Z
UID:10000396-1775066400-1775073600@gambrellstreet.org
SUMMARY:GENESIS - ESL / Citizenship classes
DESCRIPTION:
URL:https://gambrellstreet.org/event/genesis-esl-citizenship-classes-5/
CATEGORIES:Campus 1
END:VEVENT
BEGIN:VEVENT
DTSTART;TZID=UTC:20260401T180000
DTEND;TZID=UTC:20260401T190000
DTSTAMP:20260424T024521
CREATED:20260331T224500Z
LAST-MODIFIED:20260331T224500Z
UID:10000395-1775066400-1775070000@gambrellstreet.org
SUMMARY:Bible Study / Children & Youth Activities
DESCRIPTION:Church Bible Study and Preschool/Children activities \n 
URL:https://gambrellstreet.org/event/bible-study-children-youth-activities-5/
CATEGORIES:Campus 1
END:VEVENT
BEGIN:VEVENT
DTSTART;TZID=UTC:20260401T170000
DTEND;TZID=UTC:20260401T180000
DTSTAMP:20260424T024521
CREATED:20260331T224500Z
LAST-MODIFIED:20260331T224500Z
UID:10000394-1775062800-1775066400@gambrellstreet.org
SUMMARY:Wednesday Night Dinner
DESCRIPTION:
URL:https://gambrellstreet.org/event/wednesday-night-dinner-6/
CATEGORIES:Campus 1
END:VEVENT
BEGIN:VEVENT
DTSTART;TZID=UTC:20260401T100000
DTEND;TZID=UTC:20260401T120000
DTSTAMP:20260424T024521
CREATED:20260331T224455Z
LAST-MODIFIED:20260331T224455Z
UID:10000393-1775037600-1775044800@gambrellstreet.org
SUMMARY:Ladies' Prayer Group - Prayer Room
DESCRIPTION:
URL:https://gambrellstreet.org/event/ladies-prayer-group-prayer-room-5/
CATEGORIES:Campus 1
END:VEVENT
BEGIN:VEVENT
DTSTART;TZID=UTC:20260401T100000
DTEND;TZID=UTC:20260401T113000
DTSTAMP:20260424T024521
CREATED:20260331T224455Z
LAST-MODIFIED:20260331T224455Z
UID:10000392-1775037600-1775043000@gambrellstreet.org
SUMMARY:GENESIS - Prayer Meeting - ZOOM
DESCRIPTION:
URL:https://gambrellstreet.org/event/genesis-prayer-meeting-zoom-5/
CATEGORIES:Campus 1
END:VEVENT
BEGIN:VEVENT
DTSTART;TZID=UTC:20260401T090000
DTEND;TZID=UTC:20260401T150000
DTSTAMP:20260424T024521
CREATED:20260331T224455Z
LAST-MODIFIED:20260331T224455Z
UID:10000391-1775034000-1775055600@gambrellstreet.org
SUMMARY:Christian Women's Job Corp - Room 202
DESCRIPTION:
URL:https://gambrellstreet.org/event/christian-womens-job-corp-room-202/
CATEGORIES:Campus 1
END:VEVENT
BEGIN:VEVENT
DTSTART;TZID=UTC:20260401T083000
DTEND;TZID=UTC:20260401T160000
DTSTAMP:20260424T024521
CREATED:20260331T224455Z
LAST-MODIFIED:20260331T224455Z
UID:10000390-1775032200-1775059200@gambrellstreet.org
SUMMARY:Office Open
DESCRIPTION:
URL:https://gambrellstreet.org/event/office-open-17/
CATEGORIES:Campus 1
END:VEVENT
BEGIN:VEVENT
DTSTART;VALUE=DATE:20260401
DTEND;VALUE=DATE:20260402
DTSTAMP:20260424T024521
CREATED:20260331T224455Z
LAST-MODIFIED:20260331T224455Z
UID:10000389-1775001600-1775087999@gambrellstreet.org
SUMMARY:Prayer Team - Carpenter
DESCRIPTION:
URL:https://gambrellstreet.org/event/prayer-team-carpenter-2/
CATEGORIES:Campus 1
END:VEVENT
BEGIN:VEVENT
DTSTART;TZID=UTC:20260225T193000
DTEND;TZID=UTC:20260225T204500
DTSTAMP:20260424T024521
CREATED:20260212T100102Z
LAST-MODIFIED:20260212T100102Z
UID:10000386-1772047800-1772052300@gambrellstreet.org
SUMMARY:Choir Rehearsal
DESCRIPTION:Contact – Mariano Gongora
URL:https://gambrellstreet.org/event/choir-rehearsal-4/
CATEGORIES:Campus 1
END:VEVENT
BEGIN:VEVENT
DTSTART;TZID=UTC:20260225T100000
DTEND;TZID=UTC:20260225T120000
DTSTAMP:20260424T024521
CREATED:20260212T100057Z
LAST-MODIFIED:20260212T100057Z
UID:10000380-1772013600-1772020800@gambrellstreet.org
SUMMARY:Ladies' Prayer Group - Prayer Room
DESCRIPTION:
URL:https://gambrellstreet.org/event/ladies-prayer-group-prayer-room-4/
CATEGORIES:Campus 1
END:VEVENT
BEGIN:VEVENT
DTSTART;TZID=UTC:20260225T100000
DTEND;TZID=UTC:20260225T113000
DTSTAMP:20260424T024521
CREATED:20260212T100057Z
LAST-MODIFIED:20260212T100057Z
UID:10000379-1772013600-1772019000@gambrellstreet.org
SUMMARY:GENESIS - Prayer Meeting - ZOOM
DESCRIPTION:
URL:https://gambrellstreet.org/event/genesis-prayer-meeting-zoom-4/
CATEGORIES:Campus 1
END:VEVENT
BEGIN:VEVENT
DTSTART;VALUE=DATE:20260225
DTEND;VALUE=DATE:20260226
DTSTAMP:20260424T024521
CREATED:20260212T100057Z
LAST-MODIFIED:20260212T100057Z
UID:10000377-1771977600-1772063999@gambrellstreet.org
SUMMARY:Prayer Team - Trellis / Young Adult
DESCRIPTION:
URL:https://gambrellstreet.org/event/prayer-team-trellis-young-adult/
CATEGORIES:Campus 1
END:VEVENT
BEGIN:VEVENT
DTSTART;TZID=UTC:20260222T090000
DTEND;TZID=UTC:20260222T133000
DTSTAMP:20260424T024521
CREATED:20260212T100027Z
LAST-MODIFIED:20260212T100027Z
UID:10000370-1771750800-1771767000@gambrellstreet.org
SUMMARY:Bible Study / Worship Service & Extended Session
DESCRIPTION:
URL:https://gambrellstreet.org/event/bible-study-worship-service-extended-session-4/
CATEGORIES:Campus 1
END:VEVENT
BEGIN:VEVENT
DTSTART;TZID=UTC:20260219T080000
DTEND;TZID=UTC:20260219T100000
DTSTAMP:20260424T024521
CREATED:20260212T100027Z
LAST-MODIFIED:20260212T100027Z
UID:10000368-1771488000-1771495200@gambrellstreet.org
SUMMARY:Men's Breakfast - Dixie House
DESCRIPTION:
URL:https://gambrellstreet.org/event/mens-breakfast-dixie-house-2/
CATEGORIES:Campus 1
END:VEVENT
END:VCALENDAR