BEGIN:VCALENDAR
VERSION:2.0
PRODID:-//Gambrell Street Baptist Church - ECPv6.15.18//NONSGML v1.0//EN
CALSCALE:GREGORIAN
METHOD:PUBLISH
X-ORIGINAL-URL:https://gambrellstreet.org
X-WR-CALDESC:Events for Gambrell Street Baptist Church
REFRESH-INTERVAL;VALUE=DURATION:PT1H
X-Robots-Tag:noindex
X-PUBLISHED-TTL:PT1H
BEGIN:VTIMEZONE
TZID:UTC
BEGIN:STANDARD
TZOFFSETFROM:+0000
TZOFFSETTO:+0000
TZNAME:UTC
DTSTART:20250101T000000
END:STANDARD
END:VTIMEZONE
BEGIN:VEVENT
DTSTART;VALUE=DATE:20260402
DTEND;VALUE=DATE:20260403
DTSTAMP:20260423T230255
CREATED:20260331T224502Z
LAST-MODIFIED:20260331T224502Z
UID:10000400-1775088000-1775174399@gambrellstreet.org
SUMMARY:OFFICE CLOSED - HOLIDAY
DESCRIPTION:
URL:https://gambrellstreet.org/event/office-closed-holiday/
CATEGORIES:Campus 1
END:VEVENT
BEGIN:VEVENT
DTSTART;TZID=UTC:20260402T080000
DTEND;TZID=UTC:20260402T100000
DTSTAMP:20260423T230255
CREATED:20260331T224502Z
LAST-MODIFIED:20260331T224502Z
UID:10000401-1775116800-1775124000@gambrellstreet.org
SUMMARY:Men's Breakfast - Dixie House
DESCRIPTION:
URL:https://gambrellstreet.org/event/mens-breakfast-dixie-house-3/
CATEGORIES:Campus 1
END:VEVENT
BEGIN:VEVENT
DTSTART;TZID=UTC:20260402T190000
DTEND;TZID=UTC:20260402T200000
DTSTAMP:20260423T230255
CREATED:20260331T224502Z
LAST-MODIFIED:20260331T224502Z
UID:10000402-1775156400-1775160000@gambrellstreet.org
SUMMARY:Maundy Thursday Worship Service - Sanctuary
DESCRIPTION:Contact – Ben Caston – 817-226-0835
URL:https://gambrellstreet.org/event/maundy-thursday-worship-service-sanctuary/
CATEGORIES:Campus 1
END:VEVENT
END:VCALENDAR