BEGIN:VCALENDAR
VERSION:2.0
PRODID:-//Gambrell Street Baptist Church - ECPv6.15.18//NONSGML v1.0//EN
CALSCALE:GREGORIAN
METHOD:PUBLISH
X-WR-CALNAME:Gambrell Street Baptist Church
X-ORIGINAL-URL:https://gambrellstreet.org
X-WR-CALDESC:Events for Gambrell Street Baptist Church
REFRESH-INTERVAL;VALUE=DURATION:PT1H
X-Robots-Tag:noindex
X-PUBLISHED-TTL:PT1H
BEGIN:VTIMEZONE
TZID:UTC
BEGIN:STANDARD
TZOFFSETFROM:+0000
TZOFFSETTO:+0000
TZNAME:UTC
DTSTART:20250101T000000
END:STANDARD
END:VTIMEZONE
BEGIN:VEVENT
DTSTART;TZID=UTC:20260204T100000
DTEND;TZID=UTC:20260204T113000
DTSTAMP:20260424T021948
CREATED:20260212T095924Z
LAST-MODIFIED:20260212T095924Z
UID:10000316-1770199200-1770204600@gambrellstreet.org
SUMMARY:GENESIS - Prayer Meeting - ZOOM
DESCRIPTION:
URL:https://gambrellstreet.org/event/genesis-prayer-meeting-zoom/
CATEGORIES:Campus 1
END:VEVENT
BEGIN:VEVENT
DTSTART;TZID=UTC:20260204T100000
DTEND;TZID=UTC:20260204T120000
DTSTAMP:20260424T021948
CREATED:20260212T095924Z
LAST-MODIFIED:20260212T095924Z
UID:10000317-1770199200-1770206400@gambrellstreet.org
SUMMARY:Ladies' Prayer Group - Prayer Room
DESCRIPTION:
URL:https://gambrellstreet.org/event/ladies-prayer-group-prayer-room/
CATEGORIES:Campus 1
END:VEVENT
BEGIN:VEVENT
DTSTART;TZID=UTC:20260204T170000
DTEND;TZID=UTC:20260204T180000
DTSTAMP:20260424T021948
CREATED:20260212T095924Z
LAST-MODIFIED:20260212T095924Z
UID:10000318-1770224400-1770228000@gambrellstreet.org
SUMMARY:Wednesday Night Dinner
DESCRIPTION:
URL:https://gambrellstreet.org/event/wednesday-night-dinner-2/
CATEGORIES:Campus 1
END:VEVENT
BEGIN:VEVENT
DTSTART;TZID=UTC:20260204T180000
DTEND;TZID=UTC:20260204T190000
DTSTAMP:20260424T021948
CREATED:20260212T095924Z
LAST-MODIFIED:20260212T095924Z
UID:10000319-1770228000-1770231600@gambrellstreet.org
SUMMARY:Bible Study / Children & Youth Activities
DESCRIPTION:Church Bible Study and Preschool/Children activities \n 
URL:https://gambrellstreet.org/event/bible-study-children-youth-activities/
CATEGORIES:Campus 1
END:VEVENT
BEGIN:VEVENT
DTSTART;TZID=UTC:20260204T180000
DTEND;TZID=UTC:20260204T200000
DTSTAMP:20260424T021948
CREATED:20260212T095924Z
LAST-MODIFIED:20260212T095924Z
UID:10000320-1770228000-1770235200@gambrellstreet.org
SUMMARY:GENESIS - ESL / Citizenship classes
DESCRIPTION:
URL:https://gambrellstreet.org/event/genesis-esl-citizenship-classes/
CATEGORIES:Campus 1
END:VEVENT
END:VCALENDAR