BEGIN:VCALENDAR
VERSION:2.0
PRODID:-//Gambrell Street Baptist Church - ECPv6.15.18//NONSGML v1.0//EN
CALSCALE:GREGORIAN
METHOD:PUBLISH
X-WR-CALNAME:Gambrell Street Baptist Church
X-ORIGINAL-URL:https://gambrellstreet.org
X-WR-CALDESC:Events for Gambrell Street Baptist Church
REFRESH-INTERVAL;VALUE=DURATION:PT1H
X-Robots-Tag:noindex
X-PUBLISHED-TTL:PT1H
BEGIN:VTIMEZONE
TZID:UTC
BEGIN:STANDARD
TZOFFSETFROM:+0000
TZOFFSETTO:+0000
TZNAME:UTC
DTSTART:20250101T000000
END:STANDARD
END:VTIMEZONE
BEGIN:VEVENT
DTSTART;TZID=UTC:20260430T080000
DTEND;TZID=UTC:20260430T100000
DTSTAMP:20260424T083548
CREATED:20260331T224614Z
LAST-MODIFIED:20260331T224614Z
UID:10000512-1777536000-1777543200@gambrellstreet.org
SUMMARY:Men's Breakfast - Dixie House
DESCRIPTION:
URL:https://gambrellstreet.org/event/mens-breakfast-dixie-house-5/
END:VEVENT
BEGIN:VEVENT
DTSTART;TZID=UTC:20260430T083000
DTEND;TZID=UTC:20260430T160000
DTSTAMP:20260424T083548
CREATED:20260331T224614Z
LAST-MODIFIED:20260331T224614Z
UID:10000513-1777537800-1777564800@gambrellstreet.org
SUMMARY:Office Open
DESCRIPTION:
URL:https://gambrellstreet.org/event/office-open-33/
END:VEVENT
BEGIN:VEVENT
DTSTART;TZID=UTC:20260430T090000
DTEND;TZID=UTC:20260430T103000
DTSTAMP:20260424T083548
CREATED:20260331T224617Z
LAST-MODIFIED:20260331T224617Z
UID:10000514-1777539600-1777545000@gambrellstreet.org
SUMMARY:Hubbard Heights ESL Classes
DESCRIPTION:Contact – Joanne Gabel – 817-996-5918
URL:https://gambrellstreet.org/event/hubbard-heights-esl-classes-8/
CATEGORIES:Campus 1
END:VEVENT
END:VCALENDAR