BEGIN:VCALENDAR
VERSION:2.0
PRODID:-//Gambrell Street Baptist Church - ECPv6.15.18//NONSGML v1.0//EN
CALSCALE:GREGORIAN
METHOD:PUBLISH
X-ORIGINAL-URL:https://gambrellstreet.org
X-WR-CALDESC:Events for Gambrell Street Baptist Church
REFRESH-INTERVAL;VALUE=DURATION:PT1H
X-Robots-Tag:noindex
X-PUBLISHED-TTL:PT1H
BEGIN:VTIMEZONE
TZID:UTC
BEGIN:STANDARD
TZOFFSETFROM:+0000
TZOFFSETTO:+0000
TZNAME:UTC
DTSTART:20250101T000000
END:STANDARD
END:VTIMEZONE
BEGIN:VEVENT
DTSTART;VALUE=DATE:20260429
DTEND;VALUE=DATE:20260430
DTSTAMP:20260424T083712
CREATED:20260331T224609Z
LAST-MODIFIED:20260331T224609Z
UID:10000500-1777420800-1777507199@gambrellstreet.org
SUMMARY:Prayer Team - Christian Women's Job Corp Graduation
DESCRIPTION:
URL:https://gambrellstreet.org/event/prayer-team-christian-womens-job-corp-graduation/
END:VEVENT
BEGIN:VEVENT
DTSTART;TZID=UTC:20260429T083000
DTEND;TZID=UTC:20260429T160000
DTSTAMP:20260424T083712
CREATED:20260331T224609Z
LAST-MODIFIED:20260331T224609Z
UID:10000501-1777451400-1777478400@gambrellstreet.org
SUMMARY:Office Open
DESCRIPTION:
URL:https://gambrellstreet.org/event/office-open-32/
END:VEVENT
BEGIN:VEVENT
DTSTART;TZID=UTC:20260429T090000
DTEND;TZID=UTC:20260429T150000
DTSTAMP:20260424T083712
CREATED:20260331T224609Z
LAST-MODIFIED:20260331T224609Z
UID:10000502-1777453200-1777474800@gambrellstreet.org
SUMMARY:Christian Women's Job Corp - Room 202
DESCRIPTION:
URL:https://gambrellstreet.org/event/christian-womens-job-corp-room-202-13/
END:VEVENT
BEGIN:VEVENT
DTSTART;TZID=UTC:20260429T100000
DTEND;TZID=UTC:20260429T113000
DTSTAMP:20260424T083712
CREATED:20260331T224609Z
LAST-MODIFIED:20260331T224609Z
UID:10000503-1777456800-1777462200@gambrellstreet.org
SUMMARY:GENESIS - Prayer Meeting - ZOOM
DESCRIPTION:
URL:https://gambrellstreet.org/event/genesis-prayer-meeting-zoom-9/
END:VEVENT
BEGIN:VEVENT
DTSTART;TZID=UTC:20260429T100000
DTEND;TZID=UTC:20260429T120000
DTSTAMP:20260424T083712
CREATED:20260331T224612Z
LAST-MODIFIED:20260331T224612Z
UID:10000504-1777456800-1777464000@gambrellstreet.org
SUMMARY:Ladies' Prayer Group - Prayer Room
DESCRIPTION:
URL:https://gambrellstreet.org/event/ladies-prayer-group-prayer-room-9/
END:VEVENT
BEGIN:VEVENT
DTSTART;TZID=UTC:20260429T170000
DTEND;TZID=UTC:20260429T180000
DTSTAMP:20260424T083712
CREATED:20260331T224612Z
LAST-MODIFIED:20260331T224612Z
UID:10000505-1777482000-1777485600@gambrellstreet.org
SUMMARY:Wednesday Night Dinner
DESCRIPTION:
URL:https://gambrellstreet.org/event/wednesday-night-dinner-10/
END:VEVENT
BEGIN:VEVENT
DTSTART;TZID=UTC:20260429T180000
DTEND;TZID=UTC:20260429T190000
DTSTAMP:20260424T083712
CREATED:20260331T224612Z
LAST-MODIFIED:20260331T224612Z
UID:10000506-1777485600-1777489200@gambrellstreet.org
SUMMARY:Bible Study / Children & Youth Activities
DESCRIPTION:Church Bible Study and Preschool/Children activities \n 
URL:https://gambrellstreet.org/event/bible-study-children-youth-activities-9/
END:VEVENT
BEGIN:VEVENT
DTSTART;TZID=UTC:20260429T180000
DTEND;TZID=UTC:20260429T200000
DTSTAMP:20260424T083712
CREATED:20260331T224612Z
LAST-MODIFIED:20260331T224612Z
UID:10000507-1777485600-1777492800@gambrellstreet.org
SUMMARY:GENESIS - ESL / Citizenship classes
DESCRIPTION:
URL:https://gambrellstreet.org/event/genesis-esl-citizenship-classes-9/
END:VEVENT
BEGIN:VEVENT
DTSTART;TZID=UTC:20260429T180000
DTEND;TZID=UTC:20260429T203000
DTSTAMP:20260424T083712
CREATED:20260331T224612Z
LAST-MODIFIED:20260331T224612Z
UID:10000508-1777485600-1777494600@gambrellstreet.org
SUMMARY:GENESIS - Worship - In Person / Zoom - Room 100
DESCRIPTION:
URL:https://gambrellstreet.org/event/genesis-worship-in-person-zoom-room-100-9/
END:VEVENT
BEGIN:VEVENT
DTSTART;TZID=UTC:20260429T183000
DTEND;TZID=UTC:20260429T193000
DTSTAMP:20260424T083712
CREATED:20260331T224613Z
LAST-MODIFIED:20260331T224613Z
UID:10000509-1777487400-1777491000@gambrellstreet.org
SUMMARY:Handbell Practice - Room 202
DESCRIPTION:
URL:https://gambrellstreet.org/event/handbell-practice-room-202-9/
END:VEVENT
BEGIN:VEVENT
DTSTART;TZID=UTC:20260429T193000
DTEND;TZID=UTC:20260429T204500
DTSTAMP:20260424T083712
CREATED:20260331T224613Z
LAST-MODIFIED:20260331T224613Z
UID:10000510-1777491000-1777495500@gambrellstreet.org
SUMMARY:Choir Practice
DESCRIPTION:
URL:https://gambrellstreet.org/event/choir-practice-2/
END:VEVENT
BEGIN:VEVENT
DTSTART;TZID=UTC:20260429T193000
DTEND;TZID=UTC:20260429T204500
DTSTAMP:20260424T083712
CREATED:20260331T224614Z
LAST-MODIFIED:20260331T224614Z
UID:10000511-1777491000-1777495500@gambrellstreet.org
SUMMARY:Choir Rehearsal
DESCRIPTION:Contact – Mariano Gongora
URL:https://gambrellstreet.org/event/choir-rehearsal-9/
END:VEVENT
END:VCALENDAR