BEGIN:VCALENDAR
VERSION:2.0
PRODID:-//Gambrell Street Baptist Church - ECPv6.15.18//NONSGML v1.0//EN
CALSCALE:GREGORIAN
METHOD:PUBLISH
X-ORIGINAL-URL:https://gambrellstreet.org
X-WR-CALDESC:Events for Gambrell Street Baptist Church
REFRESH-INTERVAL;VALUE=DURATION:PT1H
X-Robots-Tag:noindex
X-PUBLISHED-TTL:PT1H
BEGIN:VTIMEZONE
TZID:UTC
BEGIN:STANDARD
TZOFFSETFROM:+0000
TZOFFSETTO:+0000
TZNAME:UTC
DTSTART:20250101T000000
END:STANDARD
END:VTIMEZONE
BEGIN:VEVENT
DTSTART;VALUE=DATE:20260405
DTEND;VALUE=DATE:20260406
DTSTAMP:20260424T083709
CREATED:20260331T224503Z
LAST-MODIFIED:20260331T224503Z
UID:10000406-1775347200-1775433599@gambrellstreet.org
SUMMARY:Easter
DESCRIPTION:
URL:https://gambrellstreet.org/event/easter/
END:VEVENT
BEGIN:VEVENT
DTSTART;TZID=UTC:20260405T070000
DTEND;TZID=UTC:20260405T103000
DTSTAMP:20260424T083709
CREATED:20260331T224504Z
LAST-MODIFIED:20260331T224504Z
UID:10000407-1775372400-1775385000@gambrellstreet.org
SUMMARY:Genesis - Easter Sunday Sunrise Service
DESCRIPTION:Contact – George Swan  817-845-9027
URL:https://gambrellstreet.org/event/genesis-easter-sunday-sunrise-service/
END:VEVENT
BEGIN:VEVENT
DTSTART;TZID=UTC:20260405T090000
DTEND;TZID=UTC:20260405T133000
DTSTAMP:20260424T083709
CREATED:20260331T224504Z
LAST-MODIFIED:20260331T224504Z
UID:10000408-1775379600-1775395800@gambrellstreet.org
SUMMARY:Bible Study / Worship Service & Extended Session
DESCRIPTION:
URL:https://gambrellstreet.org/event/bible-study-worship-service-extended-session-5/
END:VEVENT
BEGIN:VEVENT
DTSTART;TZID=UTC:20260405T170000
DTEND;TZID=UTC:20260405T180000
DTSTAMP:20260424T083709
CREATED:20260331T224512Z
LAST-MODIFIED:20260331T224512Z
UID:10000409-1775408400-1775412000@gambrellstreet.org
SUMMARY:NO Evening Service - Easter
DESCRIPTION:
URL:https://gambrellstreet.org/event/no-evening-service-easter/
END:VEVENT
END:VCALENDAR