BEGIN:VCALENDAR
VERSION:2.0
PRODID:-//Gambrell Street Baptist Church - ECPv6.15.18//NONSGML v1.0//EN
CALSCALE:GREGORIAN
METHOD:PUBLISH
X-ORIGINAL-URL:https://gambrellstreet.org
X-WR-CALDESC:Events for Gambrell Street Baptist Church
REFRESH-INTERVAL;VALUE=DURATION:PT1H
X-Robots-Tag:noindex
X-PUBLISHED-TTL:PT1H
BEGIN:VTIMEZONE
TZID:UTC
BEGIN:STANDARD
TZOFFSETFROM:+0000
TZOFFSETTO:+0000
TZNAME:UTC
DTSTART:20250101T000000
END:STANDARD
END:VTIMEZONE
BEGIN:VEVENT
DTSTART;TZID=UTC:20260222T090000
DTEND;TZID=UTC:20260222T130000
DTSTAMP:20260424T120720
CREATED:20260212T100027Z
LAST-MODIFIED:20260212T100027Z
UID:10000371-1771750800-1771765200@gambrellstreet.org
SUMMARY:GENESIS - Bible Study & Choir Practice / Worship Service
DESCRIPTION:
URL:https://gambrellstreet.org/event/genesis-bible-study-choir-practice-worship-service-4/
END:VEVENT
BEGIN:VEVENT
DTSTART;TZID=UTC:20260222T090000
DTEND;TZID=UTC:20260222T133000
DTSTAMP:20260424T120720
CREATED:20260212T100027Z
LAST-MODIFIED:20260212T100027Z
UID:10000370-1771750800-1771767000@gambrellstreet.org
SUMMARY:Bible Study / Worship Service & Extended Session
DESCRIPTION:
URL:https://gambrellstreet.org/event/bible-study-worship-service-extended-session-4/
CATEGORIES:Campus 1
END:VEVENT
BEGIN:VEVENT
DTSTART;TZID=UTC:20260222T170000
DTEND;TZID=UTC:20260222T180000
DTSTAMP:20260424T120720
CREATED:20260212T100027Z
LAST-MODIFIED:20260212T100027Z
UID:10000372-1771779600-1771783200@gambrellstreet.org
SUMMARY:Children's Bible Drill
DESCRIPTION:Contact – Linda Parker – 682-365-9213
URL:https://gambrellstreet.org/event/childrens-bible-drill/
END:VEVENT
BEGIN:VEVENT
DTSTART;TZID=UTC:20260222T170000
DTEND;TZID=UTC:20260222T180000
DTSTAMP:20260424T120720
CREATED:20260212T100027Z
LAST-MODIFIED:20260212T100027Z
UID:10000373-1771779600-1771783200@gambrellstreet.org
SUMMARY:Evening Service - Spivey
DESCRIPTION:
URL:https://gambrellstreet.org/event/evening-service-spivey/
END:VEVENT
END:VCALENDAR