BEGIN:VCALENDAR
VERSION:2.0
PRODID:-//Gambrell Street Baptist Church - ECPv6.15.18//NONSGML v1.0//EN
CALSCALE:GREGORIAN
METHOD:PUBLISH
X-WR-CALNAME:Gambrell Street Baptist Church
X-ORIGINAL-URL:https://gambrellstreet.org
X-WR-CALDESC:Events for Gambrell Street Baptist Church
REFRESH-INTERVAL;VALUE=DURATION:PT1H
X-Robots-Tag:noindex
X-PUBLISHED-TTL:PT1H
BEGIN:VTIMEZONE
TZID:UTC
BEGIN:STANDARD
TZOFFSETFROM:+0000
TZOFFSETTO:+0000
TZNAME:UTC
DTSTART:20240101T000000
END:STANDARD
END:VTIMEZONE
BEGIN:VEVENT
DTSTART;TZID=UTC:20251215T190000
DTEND;TZID=UTC:20251215T210000
DTSTAMP:20260424T150326
CREATED:20251017T201200Z
LAST-MODIFIED:20251017T201256Z
UID:10000277-1765825200-1765832400@gambrellstreet.org
SUMMARY:Trellis - Young Adult
DESCRIPTION:Join our College & Young Adults Bible study and fellowship at 7pm on Monday nights! We are going through the life of Moses!
URL:https://gambrellstreet.org/event/trellis-young-adult/2025-12-15/
LOCATION:Gambrell Street Baptist Church\, 1616 W Gambrell St\,\, Fort Worth\, TX\, 76115\, United States
ATTACH;FMTTYPE=image/webp:https://gambrellstreet.org/wp-content/uploads/2025/10/dsc05746-300x200-68f2e8c2ce30c.webp
GEO:32.682126078279;-97.34485878974
X-APPLE-STRUCTURED-LOCATION;VALUE=URI;X-ADDRESS=Gambrell Street Baptist Church 1616 W Gambrell St Fort Worth TX 76115 United States;X-APPLE-RADIUS=500;X-TITLE=1616 W Gambrell St\,:geo:-97.34485878974,32.682126078279
END:VEVENT
END:VCALENDAR