BEGIN:VCALENDAR
VERSION:2.0
PRODID:-//Gambrell Street Baptist Church - ECPv6.15.18//NONSGML v1.0//EN
CALSCALE:GREGORIAN
METHOD:PUBLISH
X-WR-CALNAME:Gambrell Street Baptist Church
X-ORIGINAL-URL:https://gambrellstreet.org
X-WR-CALDESC:Events for Gambrell Street Baptist Church
REFRESH-INTERVAL;VALUE=DURATION:PT1H
X-Robots-Tag:noindex
X-PUBLISHED-TTL:PT1H
BEGIN:VTIMEZONE
TZID:UTC
BEGIN:STANDARD
TZOFFSETFROM:+0000
TZOFFSETTO:+0000
TZNAME:UTC
DTSTART:20240101T000000
END:STANDARD
END:VTIMEZONE
BEGIN:VEVENT
DTSTART;TZID=UTC:20251022T170000
DTEND;TZID=UTC:20251022T180000
DTSTAMP:20260424T183316
CREATED:20251017T102204Z
LAST-MODIFIED:20251017T103529Z
UID:10000001-1761152400-1761156000@gambrellstreet.org
SUMMARY:Wednesday Night Dinner
DESCRIPTION:Join us at 5pm for dinner! It is free for students.
URL:https://gambrellstreet.org/event/wednesday-night-dinner/2025-10-22/
LOCATION:Maston Hall\, 1616 W. Gambrell Street Fort Worth\, Texas\, TX\, 76115\, United States
ATTACH;FMTTYPE=image/webp:https://gambrellstreet.org/wp-content/uploads/2025/10/dsc08833-scaled-68f25ed23f126-1.webp
GEO:32.682126078279;-97.34485878974
X-APPLE-STRUCTURED-LOCATION;VALUE=URI;X-ADDRESS=Maston Hall 1616 W. Gambrell Street Fort Worth Texas TX 76115 United States;X-APPLE-RADIUS=500;X-TITLE=1616 W. Gambrell Street Fort Worth:geo:-97.34485878974,32.682126078279
END:VEVENT
BEGIN:VEVENT
DTSTART;TZID=UTC:20251022T180000
DTEND;TZID=UTC:20251022T190000
DTSTAMP:20260424T183316
CREATED:20251017T200404Z
LAST-MODIFIED:20251017T200404Z
UID:10000263-1761156000-1761159600@gambrellstreet.org
SUMMARY:Wednesday Night Bible Study & Prayer Meeting
DESCRIPTION:Join us on Wednesday’s @ 6pm for our Bible study and Prayer meeting! We have a rotation of 7 teams that lead us in our devotional and then we trake time to pray for eachother\, pray for concerns/praises\, and for current issues.
URL:https://gambrellstreet.org/event/wednesday-night-bible-study-prayer-meeting/2025-10-22/
LOCATION:Maston Hall\, 1616 W. Gambrell Street Fort Worth\, Texas\, TX\, 76115\, United States
ATTACH;FMTTYPE=image/webp:https://gambrellstreet.org/wp-content/uploads/2025/10/dsc08855-1-200x300-68f2e6fc9c778.webp
GEO:32.682126078279;-97.34485878974
X-APPLE-STRUCTURED-LOCATION;VALUE=URI;X-ADDRESS=Maston Hall 1616 W. Gambrell Street Fort Worth Texas TX 76115 United States;X-APPLE-RADIUS=500;X-TITLE=1616 W. Gambrell Street Fort Worth:geo:-97.34485878974,32.682126078279
END:VEVENT
BEGIN:VEVENT
DTSTART;TZID=UTC:20251022T180000
DTEND;TZID=UTC:20251022T190000
DTSTAMP:20260424T183316
CREATED:20251017T202940Z
LAST-MODIFIED:20251017T202952Z
UID:10000296-1761156000-1761159600@gambrellstreet.org
SUMMARY:Youth Lighthouse
DESCRIPTION:Join our Youth Group at the church on Wednesday nights at 6pm!
URL:https://gambrellstreet.org/event/youth-lighthouse/2025-10-22/
LOCATION:Gambrell Street Baptist Church\, 1616 W Gambrell St\,\, Fort Worth\, TX\, 76115\, United States
ATTACH;FMTTYPE=image/webp:https://gambrellstreet.org/wp-content/uploads/2025/10/large-wide-3374b992-9f00-4be0-8c38-b3be73af9bde-at-2x-68f2ed71cc364.webp
GEO:32.682126078279;-97.34485878974
X-APPLE-STRUCTURED-LOCATION;VALUE=URI;X-ADDRESS=Gambrell Street Baptist Church 1616 W Gambrell St Fort Worth TX 76115 United States;X-APPLE-RADIUS=500;X-TITLE=1616 W Gambrell St\,:geo:-97.34485878974,32.682126078279
END:VEVENT
END:VCALENDAR